BEGIN:VCALENDAR
VERSION:2.0
PRODID:https://www.kufer.de/kuferweb / DE
METHOD:PUBLISH
CALSCALE:GREGORIAN
X-WR-TIMEZONE:Europe/Berlin
BEGIN:VTIMEZONE
TZID:Europe/Berlin
X-LIC-LOCATION:Europe/Berlin
BEGIN:DAYLIGHT
TZOFFSETFROM:+0100
TZOFFSETTO:+0200
TZNAME:CEST
DTSTART:19700329T020000
RRULE:FREQ=YEARLY;INTERVAL=1;BYDAY=-1SU;BYMONTH=3
END:DAYLIGHT
BEGIN:STANDARD
TZOFFSETFROM:+0200
TZOFFSETTO:+0100
TZNAME:CET
DTSTART:19701025T030000
RRULE:FREQ=YEARLY;INTERVAL=1;BYDAY=-1SU;BYMONTH=10
END:STANDARD
END:VTIMEZONE
BEGIN:VEVENT
DTSTAMP:20260421T223647
DTSTART;TZID=Europe/Berlin:20260130T093000
DTEND;TZID=Europe/Berlin:20260130T101500
UID:Q3401-20260130T093000@KVHSAMMERLAND
SUMMARY:Englisch (Q3401) 
LOCATION:Edewecht, Artec, Unterrichtsraum, Holljestr. 5, 26188 Edewecht
END:VEVENT
BEGIN:VEVENT
DTSTAMP:20260421T223647
DTSTART;TZID=Europe/Berlin:20260206T093000
DTEND;TZID=Europe/Berlin:20260206T101500
UID:Q3401-20260206T093000@KVHSAMMERLAND
SUMMARY:Englisch (Q3401) 
LOCATION:Edewecht, Artec, Unterrichtsraum, Holljestr. 5, 26188 Edewecht
END:VEVENT
BEGIN:VEVENT
DTSTAMP:20260421T223647
DTSTART;TZID=Europe/Berlin:20260220T093000
DTEND;TZID=Europe/Berlin:20260220T101500
UID:Q3401-20260220T093000@KVHSAMMERLAND
SUMMARY:Englisch (Q3401) 
LOCATION:Edewecht, Artec, Unterrichtsraum, Holljestr. 5, 26188 Edewecht
END:VEVENT
BEGIN:VEVENT
DTSTAMP:20260421T223647
DTSTART;TZID=Europe/Berlin:20260227T093000
DTEND;TZID=Europe/Berlin:20260227T101500
UID:Q3401-20260227T093000@KVHSAMMERLAND
SUMMARY:Englisch (Q3401) 
LOCATION:Edewecht, Artec, Unterrichtsraum, Holljestr. 5, 26188 Edewecht
END:VEVENT
BEGIN:VEVENT
DTSTAMP:20260421T223647
DTSTART;TZID=Europe/Berlin:20260306T093000
DTEND;TZID=Europe/Berlin:20260306T101500
UID:Q3401-20260306T093000@KVHSAMMERLAND
SUMMARY:Englisch (Q3401) 
LOCATION:Edewecht, Artec, Unterrichtsraum, Holljestr. 5, 26188 Edewecht
END:VEVENT
BEGIN:VEVENT
DTSTAMP:20260421T223647
DTSTART;TZID=Europe/Berlin:20260313T093000
DTEND;TZID=Europe/Berlin:20260313T101500
UID:Q3401-20260313T093000@KVHSAMMERLAND
SUMMARY:Englisch (Q3401) 
LOCATION:Edewecht, Artec, Unterrichtsraum, Holljestr. 5, 26188 Edewecht
END:VEVENT
BEGIN:VEVENT
DTSTAMP:20260421T223647
DTSTART;TZID=Europe/Berlin:20260320T093000
DTEND;TZID=Europe/Berlin:20260320T101500
UID:Q3401-20260320T093000@KVHSAMMERLAND
SUMMARY:Englisch (Q3401) 
LOCATION:Edewecht, Artec, Unterrichtsraum, Holljestr. 5, 26188 Edewecht
END:VEVENT
BEGIN:VEVENT
DTSTAMP:20260421T223647
DTSTART;TZID=Europe/Berlin:20260410T093000
DTEND;TZID=Europe/Berlin:20260410T101500
UID:Q3401-20260410T093000@KVHSAMMERLAND
SUMMARY:Englisch (Q3401) 
LOCATION:Edewecht, Artec, Unterrichtsraum, Holljestr. 5, 26188 Edewecht
END:VEVENT
BEGIN:VEVENT
DTSTAMP:20260421T223647
DTSTART;TZID=Europe/Berlin:20260417T093000
DTEND;TZID=Europe/Berlin:20260417T101500
UID:Q3401-20260417T093000@KVHSAMMERLAND
SUMMARY:Englisch (Q3401) 
LOCATION:Edewecht, Artec, Unterrichtsraum, Holljestr. 5, 26188 Edewecht
END:VEVENT
BEGIN:VEVENT
DTSTAMP:20260421T223647
DTSTART;TZID=Europe/Berlin:20260508T093000
DTEND;TZID=Europe/Berlin:20260508T101500
UID:Q3401-20260508T093000@KVHSAMMERLAND
SUMMARY:Englisch (Q3401) 
LOCATION:Edewecht, Artec, Unterrichtsraum, Holljestr. 5, 26188 Edewecht
END:VEVENT
BEGIN:VEVENT
DTSTAMP:20260421T223647
DTSTART;TZID=Europe/Berlin:20260522T093000
DTEND;TZID=Europe/Berlin:20260522T101500
UID:Q3401-20260522T093000@KVHSAMMERLAND
SUMMARY:Englisch (Q3401) 
LOCATION:Edewecht, Artec, Unterrichtsraum, Holljestr. 5, 26188 Edewecht
END:VEVENT
BEGIN:VEVENT
DTSTAMP:20260421T223647
DTSTART;TZID=Europe/Berlin:20260529T093000
DTEND;TZID=Europe/Berlin:20260529T101500
UID:Q3401-20260529T093000@KVHSAMMERLAND
SUMMARY:Englisch (Q3401) 
LOCATION:Edewecht, Artec, Unterrichtsraum, Holljestr. 5, 26188 Edewecht
END:VEVENT
BEGIN:VEVENT
DTSTAMP:20260421T223647
DTSTART;TZID=Europe/Berlin:20260605T093000
DTEND;TZID=Europe/Berlin:20260605T101500
UID:Q3401-20260605T093000@KVHSAMMERLAND
SUMMARY:Englisch (Q3401) 
LOCATION:Edewecht, Artec, Unterrichtsraum, Holljestr. 5, 26188 Edewecht
END:VEVENT
BEGIN:VEVENT
DTSTAMP:20260421T223647
DTSTART;TZID=Europe/Berlin:20260612T093000
DTEND;TZID=Europe/Berlin:20260612T101500
UID:Q3401-20260612T093000@KVHSAMMERLAND
SUMMARY:Englisch (Q3401) 
LOCATION:Edewecht, Artec, Unterrichtsraum, Holljestr. 5, 26188 Edewecht
END:VEVENT
END:VCALENDAR