BEGIN:VCALENDAR
VERSION:2.0
PRODID:https://www.kufer.de/kuferweb / DE
METHOD:PUBLISH
CALSCALE:GREGORIAN
X-WR-TIMEZONE:Europe/Berlin
BEGIN:VTIMEZONE
TZID:Europe/Berlin
X-LIC-LOCATION:Europe/Berlin
BEGIN:DAYLIGHT
TZOFFSETFROM:+0100
TZOFFSETTO:+0200
TZNAME:CEST
DTSTART:19700329T020000
RRULE:FREQ=YEARLY;INTERVAL=1;BYDAY=-1SU;BYMONTH=3
END:DAYLIGHT
BEGIN:STANDARD
TZOFFSETFROM:+0200
TZOFFSETTO:+0100
TZNAME:CET
DTSTART:19701025T030000
RRULE:FREQ=YEARLY;INTERVAL=1;BYDAY=-1SU;BYMONTH=10
END:STANDARD
END:VTIMEZONE
BEGIN:VEVENT
DTSTAMP:20260421T205229
DTSTART;TZID=Europe/Berlin:20260130T083000
DTEND;TZID=Europe/Berlin:20260130T091500
UID:Q3400-20260130T083000@KVHSAMMERLAND
SUMMARY:Mathematik (Q3400) 
LOCATION:Edewecht, Artec, Unterrichtsraum, Holljestr. 5, 26188 Edewecht
END:VEVENT
BEGIN:VEVENT
DTSTAMP:20260421T205229
DTSTART;TZID=Europe/Berlin:20260206T083000
DTEND;TZID=Europe/Berlin:20260206T091500
UID:Q3400-20260206T083000@KVHSAMMERLAND
SUMMARY:Mathematik (Q3400) 
LOCATION:Edewecht, Artec, Unterrichtsraum, Holljestr. 5, 26188 Edewecht
END:VEVENT
BEGIN:VEVENT
DTSTAMP:20260421T205229
DTSTART;TZID=Europe/Berlin:20260220T083000
DTEND;TZID=Europe/Berlin:20260220T091500
UID:Q3400-20260220T083000@KVHSAMMERLAND
SUMMARY:Mathematik (Q3400) 
LOCATION:Edewecht, Artec, Unterrichtsraum, Holljestr. 5, 26188 Edewecht
END:VEVENT
BEGIN:VEVENT
DTSTAMP:20260421T205229
DTSTART;TZID=Europe/Berlin:20260227T083000
DTEND;TZID=Europe/Berlin:20260227T091500
UID:Q3400-20260227T083000@KVHSAMMERLAND
SUMMARY:Mathematik (Q3400) 
LOCATION:Edewecht, Artec, Unterrichtsraum, Holljestr. 5, 26188 Edewecht
END:VEVENT
BEGIN:VEVENT
DTSTAMP:20260421T205229
DTSTART;TZID=Europe/Berlin:20260306T083000
DTEND;TZID=Europe/Berlin:20260306T091500
UID:Q3400-20260306T083000@KVHSAMMERLAND
SUMMARY:Mathematik (Q3400) 
LOCATION:Edewecht, Artec, Unterrichtsraum, Holljestr. 5, 26188 Edewecht
END:VEVENT
BEGIN:VEVENT
DTSTAMP:20260421T205229
DTSTART;TZID=Europe/Berlin:20260313T083000
DTEND;TZID=Europe/Berlin:20260313T091500
UID:Q3400-20260313T083000@KVHSAMMERLAND
SUMMARY:Mathematik (Q3400) 
LOCATION:Edewecht, Artec, Unterrichtsraum, Holljestr. 5, 26188 Edewecht
END:VEVENT
BEGIN:VEVENT
DTSTAMP:20260421T205229
DTSTART;TZID=Europe/Berlin:20260320T083000
DTEND;TZID=Europe/Berlin:20260320T091500
UID:Q3400-20260320T083000@KVHSAMMERLAND
SUMMARY:Mathematik (Q3400) 
LOCATION:Edewecht, Artec, Unterrichtsraum, Holljestr. 5, 26188 Edewecht
END:VEVENT
BEGIN:VEVENT
DTSTAMP:20260421T205229
DTSTART;TZID=Europe/Berlin:20260410T083000
DTEND;TZID=Europe/Berlin:20260410T091500
UID:Q3400-20260410T083000@KVHSAMMERLAND
SUMMARY:Mathematik (Q3400) 
LOCATION:Edewecht, Artec, Unterrichtsraum, Holljestr. 5, 26188 Edewecht
END:VEVENT
BEGIN:VEVENT
DTSTAMP:20260421T205229
DTSTART;TZID=Europe/Berlin:20260417T083000
DTEND;TZID=Europe/Berlin:20260417T091500
UID:Q3400-20260417T083000@KVHSAMMERLAND
SUMMARY:Mathematik (Q3400) 
LOCATION:Edewecht, Artec, Unterrichtsraum, Holljestr. 5, 26188 Edewecht
END:VEVENT
BEGIN:VEVENT
DTSTAMP:20260421T205229
DTSTART;TZID=Europe/Berlin:20260508T083000
DTEND;TZID=Europe/Berlin:20260508T091500
UID:Q3400-20260508T083000@KVHSAMMERLAND
SUMMARY:Mathematik (Q3400) 
LOCATION:Edewecht, Artec, Unterrichtsraum, Holljestr. 5, 26188 Edewecht
END:VEVENT
BEGIN:VEVENT
DTSTAMP:20260421T205229
DTSTART;TZID=Europe/Berlin:20260522T083000
DTEND;TZID=Europe/Berlin:20260522T091500
UID:Q3400-20260522T083000@KVHSAMMERLAND
SUMMARY:Mathematik (Q3400) 
LOCATION:Edewecht, Artec, Unterrichtsraum, Holljestr. 5, 26188 Edewecht
END:VEVENT
BEGIN:VEVENT
DTSTAMP:20260421T205229
DTSTART;TZID=Europe/Berlin:20260529T083000
DTEND;TZID=Europe/Berlin:20260529T091500
UID:Q3400-20260529T083000@KVHSAMMERLAND
SUMMARY:Mathematik (Q3400) 
LOCATION:Edewecht, Artec, Unterrichtsraum, Holljestr. 5, 26188 Edewecht
END:VEVENT
BEGIN:VEVENT
DTSTAMP:20260421T205229
DTSTART;TZID=Europe/Berlin:20260605T083000
DTEND;TZID=Europe/Berlin:20260605T091500
UID:Q3400-20260605T083000@KVHSAMMERLAND
SUMMARY:Mathematik (Q3400) 
LOCATION:Edewecht, Artec, Unterrichtsraum, Holljestr. 5, 26188 Edewecht
END:VEVENT
BEGIN:VEVENT
DTSTAMP:20260421T205229
DTSTART;TZID=Europe/Berlin:20260612T083000
DTEND;TZID=Europe/Berlin:20260612T091500
UID:Q3400-20260612T083000@KVHSAMMERLAND
SUMMARY:Mathematik (Q3400) 
LOCATION:Edewecht, Artec, Unterrichtsraum, Holljestr. 5, 26188 Edewecht
END:VEVENT
END:VCALENDAR