BEGIN:VCALENDAR
VERSION:2.0
PRODID:https://www.kufer.de/kuferweb / DE
METHOD:PUBLISH
CALSCALE:GREGORIAN
X-WR-TIMEZONE:Europe/Berlin
BEGIN:VTIMEZONE
TZID:Europe/Berlin
X-LIC-LOCATION:Europe/Berlin
BEGIN:DAYLIGHT
TZOFFSETFROM:+0100
TZOFFSETTO:+0200
TZNAME:CEST
DTSTART:19700329T020000
RRULE:FREQ=YEARLY;INTERVAL=1;BYDAY=-1SU;BYMONTH=3
END:DAYLIGHT
BEGIN:STANDARD
TZOFFSETFROM:+0200
TZOFFSETTO:+0100
TZNAME:CET
DTSTART:19701025T030000
RRULE:FREQ=YEARLY;INTERVAL=1;BYDAY=-1SU;BYMONTH=10
END:STANDARD
END:VTIMEZONE
BEGIN:VEVENT
DTSTAMP:20260421T205256
DTSTART;TZID=Europe/Berlin:20260204T093000
DTEND;TZID=Europe/Berlin:20260204T110000
UID:Q2505-20260204T093000@KVHSAMMERLAND
SUMMARY:Griffbereit (Q2505) 
LOCATION:Wiefelstede, Rudolf-Bultmannn-Haus, Kirchstr. 8, 26215 Wiefelstede
END:VEVENT
BEGIN:VEVENT
DTSTAMP:20260421T205256
DTSTART;TZID=Europe/Berlin:20260211T093000
DTEND;TZID=Europe/Berlin:20260211T110000
UID:Q2505-20260211T093000@KVHSAMMERLAND
DESCRIPTION:abgerechnet
SUMMARY:Griffbereit (Q2505) 
LOCATION:Wiefelstede, Rudolf-Bultmannn-Haus, Kirchstr. 8, 26215 Wiefelstede
END:VEVENT
BEGIN:VEVENT
DTSTAMP:20260421T205256
DTSTART;TZID=Europe/Berlin:20260211T093000
DTEND;TZID=Europe/Berlin:20260211T110000
UID:Q2505-20260211T093000@KVHSAMMERLAND
DESCRIPTION:abgerechnet
SUMMARY:Griffbereit (Q2505) 
LOCATION:Wiefelstede, Rudolf-Bultmannn-Haus, Kirchstr. 8, 26215 Wiefelstede
END:VEVENT
BEGIN:VEVENT
DTSTAMP:20260421T205256
DTSTART;TZID=Europe/Berlin:20260211T093000
DTEND;TZID=Europe/Berlin:20260211T110000
UID:Q2505-20260211T093000@KVHSAMMERLAND
SUMMARY:Griffbereit (Q2505) 
LOCATION:Wiefelstede, Rudolf-Bultmannn-Haus, Kirchstr. 8, 26215 Wiefelstede
END:VEVENT
BEGIN:VEVENT
DTSTAMP:20260421T205256
DTSTART;TZID=Europe/Berlin:20260218T093000
DTEND;TZID=Europe/Berlin:20260218T110000
UID:Q2505-20260218T093000@KVHSAMMERLAND
DESCRIPTION:abgerechnet
SUMMARY:Griffbereit (Q2505) 
LOCATION:Wiefelstede, Rudolf-Bultmannn-Haus, Kirchstr. 8, 26215 Wiefelstede
END:VEVENT
BEGIN:VEVENT
DTSTAMP:20260421T205256
DTSTART;TZID=Europe/Berlin:20260218T093000
DTEND;TZID=Europe/Berlin:20260218T110000
UID:Q2505-20260218T093000@KVHSAMMERLAND
SUMMARY:Griffbereit (Q2505) 
LOCATION:Wiefelstede, Rudolf-Bultmannn-Haus, Kirchstr. 8, 26215 Wiefelstede
END:VEVENT
BEGIN:VEVENT
DTSTAMP:20260421T205256
DTSTART;TZID=Europe/Berlin:20260218T093000
DTEND;TZID=Europe/Berlin:20260218T110000
UID:Q2505-20260218T093000@KVHSAMMERLAND
DESCRIPTION:abgerechnet
SUMMARY:Griffbereit (Q2505) 
LOCATION:Wiefelstede, Rudolf-Bultmannn-Haus, Kirchstr. 8, 26215 Wiefelstede
END:VEVENT
BEGIN:VEVENT
DTSTAMP:20260421T205256
DTSTART;TZID=Europe/Berlin:20260225T093000
DTEND;TZID=Europe/Berlin:20260225T110000
UID:Q2505-20260225T093000@KVHSAMMERLAND
SUMMARY:Griffbereit (Q2505) 
LOCATION:Wiefelstede, Rudolf-Bultmannn-Haus, Kirchstr. 8, 26215 Wiefelstede
END:VEVENT
BEGIN:VEVENT
DTSTAMP:20260421T205256
DTSTART;TZID=Europe/Berlin:20260225T093000
DTEND;TZID=Europe/Berlin:20260225T110000
UID:Q2505-20260225T093000@KVHSAMMERLAND
DESCRIPTION:abgerechnet
SUMMARY:Griffbereit (Q2505) 
LOCATION:Wiefelstede, Rudolf-Bultmannn-Haus, Kirchstr. 8, 26215 Wiefelstede
END:VEVENT
BEGIN:VEVENT
DTSTAMP:20260421T205256
DTSTART;TZID=Europe/Berlin:20260225T093000
DTEND;TZID=Europe/Berlin:20260225T110000
UID:Q2505-20260225T093000@KVHSAMMERLAND
DESCRIPTION:abgerechnet
SUMMARY:Griffbereit (Q2505) 
LOCATION:Wiefelstede, Rudolf-Bultmannn-Haus, Kirchstr. 8, 26215 Wiefelstede
END:VEVENT
BEGIN:VEVENT
DTSTAMP:20260421T205256
DTSTART;TZID=Europe/Berlin:20260304T093000
DTEND;TZID=Europe/Berlin:20260304T110000
UID:Q2505-20260304T093000@KVHSAMMERLAND
SUMMARY:Griffbereit (Q2505) 
LOCATION:Wiefelstede, Rudolf-Bultmannn-Haus, Kirchstr. 8, 26215 Wiefelstede
END:VEVENT
BEGIN:VEVENT
DTSTAMP:20260421T205256
DTSTART;TZID=Europe/Berlin:20260304T093000
DTEND;TZID=Europe/Berlin:20260304T110000
UID:Q2505-20260304T093000@KVHSAMMERLAND
DESCRIPTION:abgerechnet, ab März neue Anschrift
SUMMARY:Griffbereit (Q2505) 
LOCATION:Wiefelstede, Rudolf-Bultmannn-Haus, Kirchstr. 8, 26215 Wiefelstede
END:VEVENT
BEGIN:VEVENT
DTSTAMP:20260421T205256
DTSTART;TZID=Europe/Berlin:20260311T093000
DTEND;TZID=Europe/Berlin:20260311T110000
UID:Q2505-20260311T093000@KVHSAMMERLAND
DESCRIPTION:abgerechnet
SUMMARY:Griffbereit (Q2505) 
LOCATION:Wiefelstede, Rudolf-Bultmannn-Haus, Kirchstr. 8, 26215 Wiefelstede
END:VEVENT
BEGIN:VEVENT
DTSTAMP:20260421T205256
DTSTART;TZID=Europe/Berlin:20260311T093000
DTEND;TZID=Europe/Berlin:20260311T110000
UID:Q2505-20260311T093000@KVHSAMMERLAND
DESCRIPTION:abgerechnet
SUMMARY:Griffbereit (Q2505) 
LOCATION:Wiefelstede, Rudolf-Bultmannn-Haus, Kirchstr. 8, 26215 Wiefelstede
END:VEVENT
BEGIN:VEVENT
DTSTAMP:20260421T205256
DTSTART;TZID=Europe/Berlin:20260311T093000
DTEND;TZID=Europe/Berlin:20260311T110000
UID:Q2505-20260311T093000@KVHSAMMERLAND
SUMMARY:Griffbereit (Q2505) 
LOCATION:Wiefelstede, Rudolf-Bultmannn-Haus, Kirchstr. 8, 26215 Wiefelstede
END:VEVENT
BEGIN:VEVENT
DTSTAMP:20260421T205256
DTSTART;TZID=Europe/Berlin:20260318T093000
DTEND;TZID=Europe/Berlin:20260318T110000
UID:Q2505-20260318T093000@KVHSAMMERLAND
SUMMARY:Griffbereit (Q2505) 
LOCATION:Wiefelstede, Rudolf-Bultmannn-Haus, Kirchstr. 8, 26215 Wiefelstede
END:VEVENT
BEGIN:VEVENT
DTSTAMP:20260421T205256
DTSTART;TZID=Europe/Berlin:20260318T093000
DTEND;TZID=Europe/Berlin:20260318T110000
UID:Q2505-20260318T093000@KVHSAMMERLAND
DESCRIPTION:abgerechnet
SUMMARY:Griffbereit (Q2505) 
LOCATION:Wiefelstede, Rudolf-Bultmannn-Haus, Kirchstr. 8, 26215 Wiefelstede
END:VEVENT
BEGIN:VEVENT
DTSTAMP:20260421T205256
DTSTART;TZID=Europe/Berlin:20260408T093000
DTEND;TZID=Europe/Berlin:20260408T110000
UID:Q2505-20260408T093000@KVHSAMMERLAND
DESCRIPTION:abgerechnet
SUMMARY:Griffbereit (Q2505) 
LOCATION:Wiefelstede, Rudolf-Bultmannn-Haus, Kirchstr. 8, 26215 Wiefelstede
END:VEVENT
BEGIN:VEVENT
DTSTAMP:20260421T205256
DTSTART;TZID=Europe/Berlin:20260408T093000
DTEND;TZID=Europe/Berlin:20260408T110000
UID:Q2505-20260408T093000@KVHSAMMERLAND
SUMMARY:Griffbereit (Q2505) 
LOCATION:Wiefelstede, Rudolf-Bultmannn-Haus, Kirchstr. 8, 26215 Wiefelstede
END:VEVENT
BEGIN:VEVENT
DTSTAMP:20260421T205256
DTSTART;TZID=Europe/Berlin:20260408T093000
DTEND;TZID=Europe/Berlin:20260408T110000
UID:Q2505-20260408T093000@KVHSAMMERLAND
DESCRIPTION:abgerechnet
SUMMARY:Griffbereit (Q2505) 
LOCATION:Wiefelstede, Rudolf-Bultmannn-Haus, Kirchstr. 8, 26215 Wiefelstede
END:VEVENT
BEGIN:VEVENT
DTSTAMP:20260421T205256
DTSTART;TZID=Europe/Berlin:20260415T093000
DTEND;TZID=Europe/Berlin:20260415T110000
UID:Q2505-20260415T093000@KVHSAMMERLAND
SUMMARY:Griffbereit (Q2505) 
LOCATION:Wiefelstede, Rudolf-Bultmannn-Haus, Kirchstr. 8, 26215 Wiefelstede
END:VEVENT
BEGIN:VEVENT
DTSTAMP:20260421T205256
DTSTART;TZID=Europe/Berlin:20260422T093000
DTEND;TZID=Europe/Berlin:20260422T110000
UID:Q2505-20260422T093000@KVHSAMMERLAND
SUMMARY:Griffbereit (Q2505) 
LOCATION:Wiefelstede, Rudolf-Bultmannn-Haus, Kirchstr. 8, 26215 Wiefelstede
END:VEVENT
BEGIN:VEVENT
DTSTAMP:20260421T205256
DTSTART;TZID=Europe/Berlin:20260429T093000
DTEND;TZID=Europe/Berlin:20260429T110000
UID:Q2505-20260429T093000@KVHSAMMERLAND
SUMMARY:Griffbereit (Q2505) 
LOCATION:Wiefelstede, Rudolf-Bultmannn-Haus, Kirchstr. 8, 26215 Wiefelstede
END:VEVENT
BEGIN:VEVENT
DTSTAMP:20260421T205256
DTSTART;TZID=Europe/Berlin:20260506T093000
DTEND;TZID=Europe/Berlin:20260506T110000
UID:Q2505-20260506T093000@KVHSAMMERLAND
SUMMARY:Griffbereit (Q2505) 
LOCATION:Wiefelstede, Rudolf-Bultmannn-Haus, Kirchstr. 8, 26215 Wiefelstede
END:VEVENT
BEGIN:VEVENT
DTSTAMP:20260421T205256
DTSTART;TZID=Europe/Berlin:20260513T093000
DTEND;TZID=Europe/Berlin:20260513T110000
UID:Q2505-20260513T093000@KVHSAMMERLAND
SUMMARY:Griffbereit (Q2505) 
LOCATION:Wiefelstede, Rudolf-Bultmannn-Haus, Kirchstr. 8, 26215 Wiefelstede
END:VEVENT
BEGIN:VEVENT
DTSTAMP:20260421T205256
DTSTART;TZID=Europe/Berlin:20260520T093000
DTEND;TZID=Europe/Berlin:20260520T110000
UID:Q2505-20260520T093000@KVHSAMMERLAND
SUMMARY:Griffbereit (Q2505) 
LOCATION:Wiefelstede, Rudolf-Bultmannn-Haus, Kirchstr. 8, 26215 Wiefelstede
END:VEVENT
BEGIN:VEVENT
DTSTAMP:20260421T205256
DTSTART;TZID=Europe/Berlin:20260527T093000
DTEND;TZID=Europe/Berlin:20260527T110000
UID:Q2505-20260527T093000@KVHSAMMERLAND
SUMMARY:Griffbereit (Q2505) 
LOCATION:Wiefelstede, Rudolf-Bultmannn-Haus, Kirchstr. 8, 26215 Wiefelstede
END:VEVENT
BEGIN:VEVENT
DTSTAMP:20260421T205256
DTSTART;TZID=Europe/Berlin:20260603T093000
DTEND;TZID=Europe/Berlin:20260603T110000
UID:Q2505-20260603T093000@KVHSAMMERLAND
SUMMARY:Griffbereit (Q2505) 
LOCATION:Wiefelstede, Rudolf-Bultmannn-Haus, Kirchstr. 8, 26215 Wiefelstede
END:VEVENT
BEGIN:VEVENT
DTSTAMP:20260421T205256
DTSTART;TZID=Europe/Berlin:20260610T093000
DTEND;TZID=Europe/Berlin:20260610T110000
UID:Q2505-20260610T093000@KVHSAMMERLAND
SUMMARY:Griffbereit (Q2505) 
LOCATION:Wiefelstede, Rudolf-Bultmannn-Haus, Kirchstr. 8, 26215 Wiefelstede
END:VEVENT
BEGIN:VEVENT
DTSTAMP:20260421T205256
DTSTART;TZID=Europe/Berlin:20260617T093000
DTEND;TZID=Europe/Berlin:20260617T110000
UID:Q2505-20260617T093000@KVHSAMMERLAND
SUMMARY:Griffbereit (Q2505) 
LOCATION:Wiefelstede, Rudolf-Bultmannn-Haus, Kirchstr. 8, 26215 Wiefelstede
END:VEVENT
BEGIN:VEVENT
DTSTAMP:20260421T205256
DTSTART;TZID=Europe/Berlin:20260624T093000
DTEND;TZID=Europe/Berlin:20260624T110000
UID:Q2505-20260624T093000@KVHSAMMERLAND
SUMMARY:Griffbereit (Q2505) 
LOCATION:Wiefelstede, Rudolf-Bultmannn-Haus, Kirchstr. 8, 26215 Wiefelstede
END:VEVENT
BEGIN:VEVENT
DTSTAMP:20260421T205256
DTSTART;TZID=Europe/Berlin:20260819T093000
DTEND;TZID=Europe/Berlin:20260819T110000
UID:Q2505-20260819T093000@KVHSAMMERLAND
SUMMARY:Griffbereit (Q2505) 
LOCATION:Wiefelstede, Rudolf-Bultmannn-Haus, Kirchstr. 8, 26215 Wiefelstede
END:VEVENT
BEGIN:VEVENT
DTSTAMP:20260421T205256
DTSTART;TZID=Europe/Berlin:20260826T093000
DTEND;TZID=Europe/Berlin:20260826T110000
UID:Q2505-20260826T093000@KVHSAMMERLAND
SUMMARY:Griffbereit (Q2505) 
LOCATION:Wiefelstede, Rudolf-Bultmannn-Haus, Kirchstr. 8, 26215 Wiefelstede
END:VEVENT
END:VCALENDAR