BEGIN:VCALENDAR
VERSION:2.0
PRODID:https://www.kufer.de/kuferweb / DE
METHOD:PUBLISH
CALSCALE:GREGORIAN
X-WR-TIMEZONE:Europe/Berlin
BEGIN:VTIMEZONE
TZID:Europe/Berlin
X-LIC-LOCATION:Europe/Berlin
BEGIN:DAYLIGHT
TZOFFSETFROM:+0100
TZOFFSETTO:+0200
TZNAME:CEST
DTSTART:19700329T020000
RRULE:FREQ=YEARLY;INTERVAL=1;BYDAY=-1SU;BYMONTH=3
END:DAYLIGHT
BEGIN:STANDARD
TZOFFSETFROM:+0200
TZOFFSETTO:+0100
TZNAME:CET
DTSTART:19701025T030000
RRULE:FREQ=YEARLY;INTERVAL=1;BYDAY=-1SU;BYMONTH=10
END:STANDARD
END:VTIMEZONE
BEGIN:VEVENT
DTSTAMP:20260420T081535
DTSTART;TZID=Europe/Berlin:20260219T093000
DTEND;TZID=Europe/Berlin:20260219T110000
UID:Q2500-20260219T093000@KVHSAMMERLAND
DESCRIPTION:abgerechnet
SUMMARY:Griffbereit (Q2500) 
LOCATION:Rostrup, Alpenrosenweg Raum 2, Alpenrosenweg 12, 26160 Bad Zwischenahn
END:VEVENT
BEGIN:VEVENT
DTSTAMP:20260420T081535
DTSTART;TZID=Europe/Berlin:20260226T093000
DTEND;TZID=Europe/Berlin:20260226T110000
UID:Q2500-20260226T093000@KVHSAMMERLAND
DESCRIPTION:abgerechnet
SUMMARY:Griffbereit (Q2500) 
LOCATION:Rostrup, Alpenrosenweg Raum 2, Alpenrosenweg 12, 26160 Bad Zwischenahn
END:VEVENT
BEGIN:VEVENT
DTSTAMP:20260420T081535
DTSTART;TZID=Europe/Berlin:20260305T093000
DTEND;TZID=Europe/Berlin:20260305T110000
UID:Q2500-20260305T093000@KVHSAMMERLAND
DESCRIPTION:abgerechnet
SUMMARY:Griffbereit (Q2500) 
LOCATION:Rostrup, Alpenrosenweg Raum 2, Alpenrosenweg 12, 26160 Bad Zwischenahn
END:VEVENT
BEGIN:VEVENT
DTSTAMP:20260420T081535
DTSTART;TZID=Europe/Berlin:20260312T093000
DTEND;TZID=Europe/Berlin:20260312T110000
UID:Q2500-20260312T093000@KVHSAMMERLAND
DESCRIPTION:abgerechnet
SUMMARY:Griffbereit (Q2500) 
LOCATION:Rostrup, Alpenrosenweg Raum 2, Alpenrosenweg 12, 26160 Bad Zwischenahn
END:VEVENT
BEGIN:VEVENT
DTSTAMP:20260420T081535
DTSTART;TZID=Europe/Berlin:20260319T093000
DTEND;TZID=Europe/Berlin:20260319T110000
UID:Q2500-20260319T093000@KVHSAMMERLAND
DESCRIPTION:abgerechnet
SUMMARY:Griffbereit (Q2500) 
LOCATION:Rostrup, Alpenrosenweg Raum 2, Alpenrosenweg 12, 26160 Bad Zwischenahn
END:VEVENT
BEGIN:VEVENT
DTSTAMP:20260420T081535
DTSTART;TZID=Europe/Berlin:20260409T093000
DTEND;TZID=Europe/Berlin:20260409T110000
UID:Q2500-20260409T093000@KVHSAMMERLAND
SUMMARY:Griffbereit (Q2500) 
LOCATION:Rostrup, Alpenrosenweg Raum 2, Alpenrosenweg 12, 26160 Bad Zwischenahn
END:VEVENT
BEGIN:VEVENT
DTSTAMP:20260420T081535
DTSTART;TZID=Europe/Berlin:20260416T093000
DTEND;TZID=Europe/Berlin:20260416T110000
UID:Q2500-20260416T093000@KVHSAMMERLAND
SUMMARY:Griffbereit (Q2500) 
LOCATION:Rostrup, Alpenrosenweg Raum 2, Alpenrosenweg 12, 26160 Bad Zwischenahn
END:VEVENT
BEGIN:VEVENT
DTSTAMP:20260420T081535
DTSTART;TZID=Europe/Berlin:20260423T093000
DTEND;TZID=Europe/Berlin:20260423T110000
UID:Q2500-20260423T093000@KVHSAMMERLAND
SUMMARY:Griffbereit (Q2500) 
LOCATION:Rostrup, Alpenrosenweg Raum 2, Alpenrosenweg 12, 26160 Bad Zwischenahn
END:VEVENT
BEGIN:VEVENT
DTSTAMP:20260420T081535
DTSTART;TZID=Europe/Berlin:20260430T093000
DTEND;TZID=Europe/Berlin:20260430T110000
UID:Q2500-20260430T093000@KVHSAMMERLAND
SUMMARY:Griffbereit (Q2500) 
LOCATION:Rostrup, Alpenrosenweg Raum 2, Alpenrosenweg 12, 26160 Bad Zwischenahn
END:VEVENT
BEGIN:VEVENT
DTSTAMP:20260420T081535
DTSTART;TZID=Europe/Berlin:20260507T093000
DTEND;TZID=Europe/Berlin:20260507T110000
UID:Q2500-20260507T093000@KVHSAMMERLAND
SUMMARY:Griffbereit (Q2500) 
LOCATION:Rostrup, Alpenrosenweg Raum 2, Alpenrosenweg 12, 26160 Bad Zwischenahn
END:VEVENT
BEGIN:VEVENT
DTSTAMP:20260420T081535
DTSTART;TZID=Europe/Berlin:20260521T093000
DTEND;TZID=Europe/Berlin:20260521T110000
UID:Q2500-20260521T093000@KVHSAMMERLAND
SUMMARY:Griffbereit (Q2500) 
LOCATION:Rostrup, Alpenrosenweg Raum 2, Alpenrosenweg 12, 26160 Bad Zwischenahn
END:VEVENT
BEGIN:VEVENT
DTSTAMP:20260420T081535
DTSTART;TZID=Europe/Berlin:20260528T093000
DTEND;TZID=Europe/Berlin:20260528T110000
UID:Q2500-20260528T093000@KVHSAMMERLAND
SUMMARY:Griffbereit (Q2500) 
LOCATION:Rostrup, Alpenrosenweg Raum 2, Alpenrosenweg 12, 26160 Bad Zwischenahn
END:VEVENT
BEGIN:VEVENT
DTSTAMP:20260420T081535
DTSTART;TZID=Europe/Berlin:20260604T093000
DTEND;TZID=Europe/Berlin:20260604T110000
UID:Q2500-20260604T093000@KVHSAMMERLAND
SUMMARY:Griffbereit (Q2500) 
LOCATION:Rostrup, Alpenrosenweg Raum 2, Alpenrosenweg 12, 26160 Bad Zwischenahn
END:VEVENT
BEGIN:VEVENT
DTSTAMP:20260420T081535
DTSTART;TZID=Europe/Berlin:20260611T093000
DTEND;TZID=Europe/Berlin:20260611T110000
UID:Q2500-20260611T093000@KVHSAMMERLAND
SUMMARY:Griffbereit (Q2500) 
LOCATION:Rostrup, Alpenrosenweg Raum 2, Alpenrosenweg 12, 26160 Bad Zwischenahn
END:VEVENT
BEGIN:VEVENT
DTSTAMP:20260420T081535
DTSTART;TZID=Europe/Berlin:20260618T093000
DTEND;TZID=Europe/Berlin:20260618T110000
UID:Q2500-20260618T093000@KVHSAMMERLAND
SUMMARY:Griffbereit (Q2500) 
LOCATION:Rostrup, Alpenrosenweg Raum 2, Alpenrosenweg 12, 26160 Bad Zwischenahn
END:VEVENT
BEGIN:VEVENT
DTSTAMP:20260420T081535
DTSTART;TZID=Europe/Berlin:20260625T093000
DTEND;TZID=Europe/Berlin:20260625T110000
UID:Q2500-20260625T093000@KVHSAMMERLAND
SUMMARY:Griffbereit (Q2500) 
LOCATION:Rostrup, Alpenrosenweg Raum 2, Alpenrosenweg 12, 26160 Bad Zwischenahn
END:VEVENT
BEGIN:VEVENT
DTSTAMP:20260420T081535
DTSTART;TZID=Europe/Berlin:20260813T093000
DTEND;TZID=Europe/Berlin:20260813T110000
UID:Q2500-20260813T093000@KVHSAMMERLAND
SUMMARY:Griffbereit (Q2500) 
LOCATION:Rostrup, Alpenrosenweg Raum 2, Alpenrosenweg 12, 26160 Bad Zwischenahn
END:VEVENT
BEGIN:VEVENT
DTSTAMP:20260420T081535
DTSTART;TZID=Europe/Berlin:20260820T093000
DTEND;TZID=Europe/Berlin:20260820T110000
UID:Q2500-20260820T093000@KVHSAMMERLAND
SUMMARY:Griffbereit (Q2500) 
LOCATION:Rostrup, Alpenrosenweg Raum 2, Alpenrosenweg 12, 26160 Bad Zwischenahn
END:VEVENT
BEGIN:VEVENT
DTSTAMP:20260420T081535
DTSTART;TZID=Europe/Berlin:20260827T093000
DTEND;TZID=Europe/Berlin:20260827T110000
UID:Q2500-20260827T093000@KVHSAMMERLAND
SUMMARY:Griffbereit (Q2500) 
LOCATION:Rostrup, Alpenrosenweg Raum 2, Alpenrosenweg 12, 26160 Bad Zwischenahn
END:VEVENT
END:VCALENDAR