BEGIN:VCALENDAR
VERSION:2.0
PRODID:https://www.kufer.de/kuferweb / DE
METHOD:PUBLISH
CALSCALE:GREGORIAN
X-WR-TIMEZONE:Europe/Berlin
BEGIN:VTIMEZONE
TZID:Europe/Berlin
X-LIC-LOCATION:Europe/Berlin
BEGIN:DAYLIGHT
TZOFFSETFROM:+0100
TZOFFSETTO:+0200
TZNAME:CEST
DTSTART:19700329T020000
RRULE:FREQ=YEARLY;INTERVAL=1;BYDAY=-1SU;BYMONTH=3
END:DAYLIGHT
BEGIN:STANDARD
TZOFFSETFROM:+0200
TZOFFSETTO:+0100
TZNAME:CET
DTSTART:19701025T030000
RRULE:FREQ=YEARLY;INTERVAL=1;BYDAY=-1SU;BYMONTH=10
END:STANDARD
END:VTIMEZONE
BEGIN:VEVENT
DTSTAMP:20260421T174427
DTSTART;TZID=Europe/Berlin:20260605T173000
DTEND;TZID=Europe/Berlin:20260605T201500
UID:Q2114-20260605T173000@KVHSAMMERLAND
SUMMARY:NEU Burnout-Prophylaxe & Stressmanagement – Kopf, Herz und Körper stärken (Q2114) 
LOCATION:Bad Zwischenahn, kvhs, Raum 6, Erdgeschoss, Schulstr. 5, 26160 Bad Zwischenahn
END:VEVENT
BEGIN:VEVENT
DTSTAMP:20260421T174427
DTSTART;TZID=Europe/Berlin:20260606T093000
DTEND;TZID=Europe/Berlin:20260606T143000
UID:Q2114-20260606T093000@KVHSAMMERLAND
SUMMARY:NEU Burnout-Prophylaxe & Stressmanagement – Kopf, Herz und Körper stärken (Q2114) 
LOCATION:Bad Zwischenahn, kvhs, Raum 6, Erdgeschoss, Schulstr. 5, 26160 Bad Zwischenahn
END:VEVENT
END:VCALENDAR