BEGIN:VCALENDAR
VERSION:2.0
PRODID:https://www.kufer.de/kuferweb / DE
METHOD:PUBLISH
CALSCALE:GREGORIAN
X-WR-TIMEZONE:Europe/Berlin
BEGIN:VTIMEZONE
TZID:Europe/Berlin
X-LIC-LOCATION:Europe/Berlin
BEGIN:DAYLIGHT
TZOFFSETFROM:+0100
TZOFFSETTO:+0200
TZNAME:CEST
DTSTART:19700329T020000
RRULE:FREQ=YEARLY;INTERVAL=1;BYDAY=-1SU;BYMONTH=3
END:DAYLIGHT
BEGIN:STANDARD
TZOFFSETFROM:+0200
TZOFFSETTO:+0100
TZNAME:CET
DTSTART:19701025T030000
RRULE:FREQ=YEARLY;INTERVAL=1;BYDAY=-1SU;BYMONTH=10
END:STANDARD
END:VTIMEZONE
BEGIN:VEVENT
DTSTAMP:20260421T192608
DTSTART;TZID=Europe/Berlin:20260418T100000
DTEND;TZID=Europe/Berlin:20260418T163000
UID:Q2102-20260418T100000@KVHSAMMERLAND
DESCRIPTION:Modul 2
SUMMARY:Pädagogische Mitarbeitende an Grundschulen (im Ganztag) (vhs) (Q2102) 
LOCATION:Westerstede, CAMPUS der Möglichkeiten, Raum C202, Langebrügger Straße 5, 26655 Westerstede
END:VEVENT
BEGIN:VEVENT
DTSTAMP:20260421T192608
DTSTART;TZID=Europe/Berlin:20260506T180000
DTEND;TZID=Europe/Berlin:20260506T211500
UID:Q2102-20260506T180000@KVHSAMMERLAND
DESCRIPTION:Kreativität
SUMMARY:Pädagogische Mitarbeitende an Grundschulen (im Ganztag) (vhs) (Q2102) 
LOCATION:Westerstede, CAMPUS der Möglichkeiten, Raum C202, Langebrügger Straße 5, 26655 Westerstede
END:VEVENT
BEGIN:VEVENT
DTSTAMP:20260421T192608
DTSTART;TZID=Europe/Berlin:20260513T180000
DTEND;TZID=Europe/Berlin:20260513T211500
UID:Q2102-20260513T180000@KVHSAMMERLAND
DESCRIPTION:Kreativität
SUMMARY:Pädagogische Mitarbeitende an Grundschulen (im Ganztag) (vhs) (Q2102) 
LOCATION:Westerstede, CAMPUS der Möglichkeiten, Raum C202, Langebrügger Straße 5, 26655 Westerstede
END:VEVENT
BEGIN:VEVENT
DTSTAMP:20260421T192608
DTSTART;TZID=Europe/Berlin:20260520T180000
DTEND;TZID=Europe/Berlin:20260520T211500
UID:Q2102-20260520T180000@KVHSAMMERLAND
DESCRIPTION:Modul 3
SUMMARY:Pädagogische Mitarbeitende an Grundschulen (im Ganztag) (vhs) (Q2102) 
LOCATION:Westerstede, CAMPUS der Möglichkeiten, Raum C202, Langebrügger Straße 5, 26655 Westerstede
END:VEVENT
BEGIN:VEVENT
DTSTAMP:20260421T192608
DTSTART;TZID=Europe/Berlin:20260527T180000
DTEND;TZID=Europe/Berlin:20260527T211500
UID:Q2102-20260527T180000@KVHSAMMERLAND
DESCRIPTION:Modul 1
SUMMARY:Pädagogische Mitarbeitende an Grundschulen (im Ganztag) (vhs) (Q2102) 
LOCATION:Westerstede, CAMPUS der Möglichkeiten, Raum C202, Langebrügger Straße 5, 26655 Westerstede
END:VEVENT
BEGIN:VEVENT
DTSTAMP:20260421T192608
DTSTART;TZID=Europe/Berlin:20260530T100000
DTEND;TZID=Europe/Berlin:20260530T163000
UID:Q2102-20260530T100000@KVHSAMMERLAND
DESCRIPTION:Modul 2
SUMMARY:Pädagogische Mitarbeitende an Grundschulen (im Ganztag) (vhs) (Q2102) 
LOCATION:Westerstede, CAMPUS der Möglichkeiten, Raum C202, Langebrügger Straße 5, 26655 Westerstede
END:VEVENT
BEGIN:VEVENT
DTSTAMP:20260421T192608
DTSTART;TZID=Europe/Berlin:20260613T100000
DTEND;TZID=Europe/Berlin:20260613T163000
UID:Q2102-20260613T100000@KVHSAMMERLAND
DESCRIPTION:Modul 2
SUMMARY:Pädagogische Mitarbeitende an Grundschulen (im Ganztag) (vhs) (Q2102) 
LOCATION:Westerstede, CAMPUS der Möglichkeiten, Raum C202, Langebrügger Straße 5, 26655 Westerstede
END:VEVENT
BEGIN:VEVENT
DTSTAMP:20260421T192608
DTSTART;TZID=Europe/Berlin:20260627T100000
DTEND;TZID=Europe/Berlin:20260627T163000
UID:Q2102-20260627T100000@KVHSAMMERLAND
DESCRIPTION:Modul 2
SUMMARY:Pädagogische Mitarbeitende an Grundschulen (im Ganztag) (vhs) (Q2102) 
LOCATION:Westerstede, CAMPUS der Möglichkeiten, Raum C202, Langebrügger Straße 5, 26655 Westerstede
END:VEVENT
BEGIN:VEVENT
DTSTAMP:20260421T192608
DTSTART;TZID=Europe/Berlin:20260815T100000
DTEND;TZID=Europe/Berlin:20260815T163000
UID:Q2102-20260815T100000@KVHSAMMERLAND
DESCRIPTION:Modul 2
SUMMARY:Pädagogische Mitarbeitende an Grundschulen (im Ganztag) (vhs) (Q2102) 
LOCATION:Westerstede, CAMPUS der Möglichkeiten, Raum C202, Langebrügger Straße 5, 26655 Westerstede
END:VEVENT
BEGIN:VEVENT
DTSTAMP:20260421T192608
DTSTART;TZID=Europe/Berlin:20260829T100000
DTEND;TZID=Europe/Berlin:20260829T163000
UID:Q2102-20260829T100000@KVHSAMMERLAND
DESCRIPTION:Modul 5 
SUMMARY:Pädagogische Mitarbeitende an Grundschulen (im Ganztag) (vhs) (Q2102) 
LOCATION:Westerstede, CAMPUS der Möglichkeiten, Raum C202, Langebrügger Straße 5, 26655 Westerstede
END:VEVENT
BEGIN:VEVENT
DTSTAMP:20260421T192608
DTSTART;TZID=Europe/Berlin:20260902T180000
DTEND;TZID=Europe/Berlin:20260902T211500
UID:Q2102-20260902T180000@KVHSAMMERLAND
DESCRIPTION:Modul 4
SUMMARY:Pädagogische Mitarbeitende an Grundschulen (im Ganztag) (vhs) (Q2102) 
LOCATION:Westerstede, CAMPUS der Möglichkeiten, Raum C202, Langebrügger Straße 5, 26655 Westerstede
END:VEVENT
BEGIN:VEVENT
DTSTAMP:20260421T192608
DTSTART;TZID=Europe/Berlin:20260909T180000
DTEND;TZID=Europe/Berlin:20260909T211500
UID:Q2102-20260909T180000@KVHSAMMERLAND
DESCRIPTION:Modul 4
SUMMARY:Pädagogische Mitarbeitende an Grundschulen (im Ganztag) (vhs) (Q2102) 
LOCATION:Westerstede, CAMPUS der Möglichkeiten, Raum C202, Langebrügger Straße 5, 26655 Westerstede
END:VEVENT
BEGIN:VEVENT
DTSTAMP:20260421T192608
DTSTART;TZID=Europe/Berlin:20260916T180000
DTEND;TZID=Europe/Berlin:20260916T211500
UID:Q2102-20260916T180000@KVHSAMMERLAND
DESCRIPTION:Modul 4
SUMMARY:Pädagogische Mitarbeitende an Grundschulen (im Ganztag) (vhs) (Q2102) 
LOCATION:Westerstede, CAMPUS der Möglichkeiten, Raum C202, Langebrügger Straße 5, 26655 Westerstede
END:VEVENT
BEGIN:VEVENT
DTSTAMP:20260421T192608
DTSTART;TZID=Europe/Berlin:20260923T180000
DTEND;TZID=Europe/Berlin:20260923T211500
UID:Q2102-20260923T180000@KVHSAMMERLAND
DESCRIPTION:Modul 4
SUMMARY:Pädagogische Mitarbeitende an Grundschulen (im Ganztag) (vhs) (Q2102) 
LOCATION:Westerstede, CAMPUS der Möglichkeiten, Raum C202, Langebrügger Straße 5, 26655 Westerstede
END:VEVENT
BEGIN:VEVENT
DTSTAMP:20260421T192608
DTSTART;TZID=Europe/Berlin:20260930T180000
DTEND;TZID=Europe/Berlin:20260930T211500
UID:Q2102-20260930T180000@KVHSAMMERLAND
DESCRIPTION:Modul 4
SUMMARY:Pädagogische Mitarbeitende an Grundschulen (im Ganztag) (vhs) (Q2102) 
LOCATION:Westerstede, CAMPUS der Möglichkeiten, Raum C202, Langebrügger Straße 5, 26655 Westerstede
END:VEVENT
BEGIN:VEVENT
DTSTAMP:20260421T192608
DTSTART;TZID=Europe/Berlin:20261010T100000
DTEND;TZID=Europe/Berlin:20261010T163000
UID:Q2102-20261010T100000@KVHSAMMERLAND
DESCRIPTION:Modul 1
SUMMARY:Pädagogische Mitarbeitende an Grundschulen (im Ganztag) (vhs) (Q2102) 
LOCATION:Westerstede, CAMPUS der Möglichkeiten, Raum C202, Langebrügger Straße 5, 26655 Westerstede
END:VEVENT
BEGIN:VEVENT
DTSTAMP:20260421T192608
DTSTART;TZID=Europe/Berlin:20261028T180000
DTEND;TZID=Europe/Berlin:20261028T211500
UID:Q2102-20261028T180000@KVHSAMMERLAND
DESCRIPTION:Modul 3
SUMMARY:Pädagogische Mitarbeitende an Grundschulen (im Ganztag) (vhs) (Q2102) 
LOCATION:Westerstede, CAMPUS der Möglichkeiten, Raum C202, Langebrügger Straße 5, 26655 Westerstede
END:VEVENT
BEGIN:VEVENT
DTSTAMP:20260421T192608
DTSTART;TZID=Europe/Berlin:20261104T180000
DTEND;TZID=Europe/Berlin:20261104T211500
UID:Q2102-20261104T180000@KVHSAMMERLAND
DESCRIPTION:Modul 4
SUMMARY:Pädagogische Mitarbeitende an Grundschulen (im Ganztag) (vhs) (Q2102) 
LOCATION:Westerstede, CAMPUS der Möglichkeiten, Raum C202, Langebrügger Straße 5, 26655 Westerstede
END:VEVENT
BEGIN:VEVENT
DTSTAMP:20260421T192608
DTSTART;TZID=Europe/Berlin:20261111T180000
DTEND;TZID=Europe/Berlin:20261111T211500
UID:Q2102-20261111T180000@KVHSAMMERLAND
DESCRIPTION:Modul 4
SUMMARY:Pädagogische Mitarbeitende an Grundschulen (im Ganztag) (vhs) (Q2102) 
LOCATION:Westerstede, CAMPUS der Möglichkeiten, Raum C202, Langebrügger Straße 5, 26655 Westerstede
END:VEVENT
BEGIN:VEVENT
DTSTAMP:20260421T192608
DTSTART;TZID=Europe/Berlin:20261128T100000
DTEND;TZID=Europe/Berlin:20261128T163000
UID:Q2102-20261128T100000@KVHSAMMERLAND
DESCRIPTION:Modul 3
SUMMARY:Pädagogische Mitarbeitende an Grundschulen (im Ganztag) (vhs) (Q2102) 
LOCATION:Westerstede, CAMPUS der Möglichkeiten, Raum C202, Langebrügger Straße 5, 26655 Westerstede
END:VEVENT
BEGIN:VEVENT
DTSTAMP:20260421T192608
DTSTART;TZID=Europe/Berlin:20261205T100000
DTEND;TZID=Europe/Berlin:20261205T163000
UID:Q2102-20261205T100000@KVHSAMMERLAND
DESCRIPTION:Modul 1
SUMMARY:Pädagogische Mitarbeitende an Grundschulen (im Ganztag) (vhs) (Q2102) 
LOCATION:Westerstede, CAMPUS der Möglichkeiten, Raum C202, Langebrügger Straße 5, 26655 Westerstede
END:VEVENT
BEGIN:VEVENT
DTSTAMP:20260421T192608
DTSTART;TZID=Europe/Berlin:20261218T153000
DTEND;TZID=Europe/Berlin:20261218T190000
UID:Q2102-20261218T153000@KVHSAMMERLAND
DESCRIPTION:Kolloquium
SUMMARY:Pädagogische Mitarbeitende an Grundschulen (im Ganztag) (vhs) (Q2102) 
LOCATION:Westerstede, CAMPUS der Möglichkeiten, Raum C202, Langebrügger Straße 5, 26655 Westerstede
END:VEVENT
BEGIN:VEVENT
DTSTAMP:20260421T192608
DTSTART;TZID=Europe/Berlin:20261218T153000
DTEND;TZID=Europe/Berlin:20261218T190000
UID:Q2102-20261218T153000@KVHSAMMERLAND
SUMMARY:Pädagogische Mitarbeitende an Grundschulen (im Ganztag) (vhs) (Q2102) 
LOCATION:Westerstede, CAMPUS der Möglichkeiten, Raum C202, Langebrügger Straße 5, 26655 Westerstede
END:VEVENT
BEGIN:VEVENT
DTSTAMP:20260421T192608
DTSTART;TZID=Europe/Berlin:20261219T080000
DTEND;TZID=Europe/Berlin:20261219T160000
UID:Q2102-20261219T080000@KVHSAMMERLAND
DESCRIPTION:Kolloquium
SUMMARY:Pädagogische Mitarbeitende an Grundschulen (im Ganztag) (vhs) (Q2102) 
LOCATION:Westerstede, CAMPUS der Möglichkeiten, Raum C202, Langebrügger Straße 5, 26655 Westerstede
END:VEVENT
BEGIN:VEVENT
DTSTAMP:20260421T192608
DTSTART;TZID=Europe/Berlin:20261219T080000
DTEND;TZID=Europe/Berlin:20261219T160000
UID:Q2102-20261219T080000@KVHSAMMERLAND
SUMMARY:Pädagogische Mitarbeitende an Grundschulen (im Ganztag) (vhs) (Q2102) 
LOCATION:Westerstede, CAMPUS der Möglichkeiten, Raum C202, Langebrügger Straße 5, 26655 Westerstede
END:VEVENT
END:VCALENDAR