BEGIN:VCALENDAR
VERSION:2.0
PRODID:https://www.kufer.de/kuferweb / DE
METHOD:PUBLISH
CALSCALE:GREGORIAN
X-WR-TIMEZONE:Europe/Berlin
BEGIN:VTIMEZONE
TZID:Europe/Berlin
X-LIC-LOCATION:Europe/Berlin
BEGIN:DAYLIGHT
TZOFFSETFROM:+0100
TZOFFSETTO:+0200
TZNAME:CEST
DTSTART:19700329T020000
RRULE:FREQ=YEARLY;INTERVAL=1;BYDAY=-1SU;BYMONTH=3
END:DAYLIGHT
BEGIN:STANDARD
TZOFFSETFROM:+0200
TZOFFSETTO:+0100
TZNAME:CET
DTSTART:19701025T030000
RRULE:FREQ=YEARLY;INTERVAL=1;BYDAY=-1SU;BYMONTH=10
END:STANDARD
END:VTIMEZONE
BEGIN:VEVENT
DTSTAMP:20260421T192607
DTSTART;TZID=Europe/Berlin:20260410T180000
DTEND;TZID=Europe/Berlin:20260410T201500
UID:Q1300-20260410T180000@KVHSAMMERLAND
SUMMARY:Vorbereitung auf den Hunde-Führerschein Niedersachsen (Q1300) 
LOCATION:Westerstede, kvhs, Raum B102, Seminarraum, Am Esch 10, 26655 Westerstede
END:VEVENT
BEGIN:VEVENT
DTSTAMP:20260421T192607
DTSTART;TZID=Europe/Berlin:20260424T180000
DTEND;TZID=Europe/Berlin:20260424T201500
UID:Q1300-20260424T180000@KVHSAMMERLAND
SUMMARY:Vorbereitung auf den Hunde-Führerschein Niedersachsen (Q1300) 
LOCATION:Westerstede, kvhs, Raum B102, Seminarraum, Am Esch 10, 26655 Westerstede
END:VEVENT
BEGIN:VEVENT
DTSTAMP:20260421T192607
DTSTART;TZID=Europe/Berlin:20260507T160000
DTEND;TZID=Europe/Berlin:20260507T201500
UID:Q1300-20260507T160000@KVHSAMMERLAND
SUMMARY:Vorbereitung auf den Hunde-Führerschein Niedersachsen (Q1300) 
LOCATION:Westerstede, kvhs, Raum B102, Seminarraum, Am Esch 10, 26655 Westerstede
END:VEVENT
BEGIN:VEVENT
DTSTAMP:20260421T192607
DTSTART;TZID=Europe/Berlin:20260508T160000
DTEND;TZID=Europe/Berlin:20260508T201500
UID:Q1300-20260508T160000@KVHSAMMERLAND
SUMMARY:Vorbereitung auf den Hunde-Führerschein Niedersachsen (Q1300) 
LOCATION:Westerstede, kvhs, Raum B102, Seminarraum, Am Esch 10, 26655 Westerstede
END:VEVENT
BEGIN:VEVENT
DTSTAMP:20260421T192607
DTSTART;TZID=Europe/Berlin:20260509T110000
DTEND;TZID=Europe/Berlin:20260509T150000
UID:Q1300-20260509T110000@KVHSAMMERLAND
SUMMARY:Vorbereitung auf den Hunde-Führerschein Niedersachsen (Q1300) 
LOCATION:Westerstede, kvhs, Raum B102, Seminarraum, Am Esch 10, 26655 Westerstede
END:VEVENT
END:VCALENDAR