BEGIN:VCALENDAR
VERSION:2.0
PRODID:https://www.kufer.de/kuferweb / DE
METHOD:PUBLISH
CALSCALE:GREGORIAN
X-WR-TIMEZONE:Europe/Berlin
BEGIN:VTIMEZONE
TZID:Europe/Berlin
X-LIC-LOCATION:Europe/Berlin
BEGIN:DAYLIGHT
TZOFFSETFROM:+0100
TZOFFSETTO:+0200
TZNAME:CEST
DTSTART:19700329T020000
RRULE:FREQ=YEARLY;INTERVAL=1;BYDAY=-1SU;BYMONTH=3
END:DAYLIGHT
BEGIN:STANDARD
TZOFFSETFROM:+0200
TZOFFSETTO:+0100
TZNAME:CET
DTSTART:19701025T030000
RRULE:FREQ=YEARLY;INTERVAL=1;BYDAY=-1SU;BYMONTH=10
END:STANDARD
END:VTIMEZONE
BEGIN:VEVENT
DTSTAMP:20260421T191220
DTSTART;TZID=Europe/Berlin:20260609T083000
DTEND;TZID=Europe/Berlin:20260609T114500
UID:P70706-20260609T083000@KVHSAMMERLAND
SUMMARY:Integrationskurs Bad Zwischenahn- Modul 6 (P70706) 
LOCATION:Bad Zwischenahn, kvhs, Raum 11, Obergeschoss, Schulstr. 5, 26160 Bad Zwischenahn
END:VEVENT
BEGIN:VEVENT
DTSTAMP:20260421T191220
DTSTART;TZID=Europe/Berlin:20260610T083000
DTEND;TZID=Europe/Berlin:20260610T114500
UID:P70706-20260610T083000@KVHSAMMERLAND
SUMMARY:Integrationskurs Bad Zwischenahn- Modul 6 (P70706) 
LOCATION:Bad Zwischenahn, kvhs, Raum 11, Obergeschoss, Schulstr. 5, 26160 Bad Zwischenahn
END:VEVENT
BEGIN:VEVENT
DTSTAMP:20260421T191220
DTSTART;TZID=Europe/Berlin:20260611T083000
DTEND;TZID=Europe/Berlin:20260611T114500
UID:P70706-20260611T083000@KVHSAMMERLAND
SUMMARY:Integrationskurs Bad Zwischenahn- Modul 6 (P70706) 
LOCATION:Bad Zwischenahn, kvhs, Raum 11, Obergeschoss, Schulstr. 5, 26160 Bad Zwischenahn
END:VEVENT
BEGIN:VEVENT
DTSTAMP:20260421T191220
DTSTART;TZID=Europe/Berlin:20260612T083000
DTEND;TZID=Europe/Berlin:20260612T114500
UID:P70706-20260612T083000@KVHSAMMERLAND
SUMMARY:Integrationskurs Bad Zwischenahn- Modul 6 (P70706) 
LOCATION:Bad Zwischenahn, kvhs, Raum 11, Obergeschoss, Schulstr. 5, 26160 Bad Zwischenahn
END:VEVENT
BEGIN:VEVENT
DTSTAMP:20260421T191220
DTSTART;TZID=Europe/Berlin:20260615T083000
DTEND;TZID=Europe/Berlin:20260615T114500
UID:P70706-20260615T083000@KVHSAMMERLAND
SUMMARY:Integrationskurs Bad Zwischenahn- Modul 6 (P70706) 
LOCATION:Bad Zwischenahn, kvhs, Raum 11, Obergeschoss, Schulstr. 5, 26160 Bad Zwischenahn
END:VEVENT
BEGIN:VEVENT
DTSTAMP:20260421T191220
DTSTART;TZID=Europe/Berlin:20260616T083000
DTEND;TZID=Europe/Berlin:20260616T114500
UID:P70706-20260616T083000@KVHSAMMERLAND
SUMMARY:Integrationskurs Bad Zwischenahn- Modul 6 (P70706) 
LOCATION:Bad Zwischenahn, kvhs, Raum 11, Obergeschoss, Schulstr. 5, 26160 Bad Zwischenahn
END:VEVENT
BEGIN:VEVENT
DTSTAMP:20260421T191220
DTSTART;TZID=Europe/Berlin:20260617T083000
DTEND;TZID=Europe/Berlin:20260617T114500
UID:P70706-20260617T083000@KVHSAMMERLAND
SUMMARY:Integrationskurs Bad Zwischenahn- Modul 6 (P70706) 
LOCATION:Bad Zwischenahn, kvhs, Raum 11, Obergeschoss, Schulstr. 5, 26160 Bad Zwischenahn
END:VEVENT
BEGIN:VEVENT
DTSTAMP:20260421T191220
DTSTART;TZID=Europe/Berlin:20260618T083000
DTEND;TZID=Europe/Berlin:20260618T114500
UID:P70706-20260618T083000@KVHSAMMERLAND
SUMMARY:Integrationskurs Bad Zwischenahn- Modul 6 (P70706) 
LOCATION:Bad Zwischenahn, kvhs, Raum 11, Obergeschoss, Schulstr. 5, 26160 Bad Zwischenahn
END:VEVENT
BEGIN:VEVENT
DTSTAMP:20260421T191220
DTSTART;TZID=Europe/Berlin:20260619T083000
DTEND;TZID=Europe/Berlin:20260619T114500
UID:P70706-20260619T083000@KVHSAMMERLAND
SUMMARY:Integrationskurs Bad Zwischenahn- Modul 6 (P70706) 
LOCATION:Bad Zwischenahn, kvhs, Raum 11, Obergeschoss, Schulstr. 5, 26160 Bad Zwischenahn
END:VEVENT
BEGIN:VEVENT
DTSTAMP:20260421T191220
DTSTART;TZID=Europe/Berlin:20260622T083000
DTEND;TZID=Europe/Berlin:20260622T114500
UID:P70706-20260622T083000@KVHSAMMERLAND
SUMMARY:Integrationskurs Bad Zwischenahn- Modul 6 (P70706) 
LOCATION:Bad Zwischenahn, kvhs, Raum 11, Obergeschoss, Schulstr. 5, 26160 Bad Zwischenahn
END:VEVENT
BEGIN:VEVENT
DTSTAMP:20260421T191220
DTSTART;TZID=Europe/Berlin:20260623T083000
DTEND;TZID=Europe/Berlin:20260623T114500
UID:P70706-20260623T083000@KVHSAMMERLAND
SUMMARY:Integrationskurs Bad Zwischenahn- Modul 6 (P70706) 
LOCATION:Bad Zwischenahn, kvhs, Raum 11, Obergeschoss, Schulstr. 5, 26160 Bad Zwischenahn
END:VEVENT
BEGIN:VEVENT
DTSTAMP:20260421T191220
DTSTART;TZID=Europe/Berlin:20260624T083000
DTEND;TZID=Europe/Berlin:20260624T114500
UID:P70706-20260624T083000@KVHSAMMERLAND
SUMMARY:Integrationskurs Bad Zwischenahn- Modul 6 (P70706) 
LOCATION:Bad Zwischenahn, kvhs, Raum 11, Obergeschoss, Schulstr. 5, 26160 Bad Zwischenahn
END:VEVENT
BEGIN:VEVENT
DTSTAMP:20260421T191220
DTSTART;TZID=Europe/Berlin:20260625T083000
DTEND;TZID=Europe/Berlin:20260625T114500
UID:P70706-20260625T083000@KVHSAMMERLAND
SUMMARY:Integrationskurs Bad Zwischenahn- Modul 6 (P70706) 
LOCATION:Bad Zwischenahn, kvhs, Raum 11, Obergeschoss, Schulstr. 5, 26160 Bad Zwischenahn
END:VEVENT
BEGIN:VEVENT
DTSTAMP:20260421T191220
DTSTART;TZID=Europe/Berlin:20260626T083000
DTEND;TZID=Europe/Berlin:20260626T114500
UID:P70706-20260626T083000@KVHSAMMERLAND
SUMMARY:Integrationskurs Bad Zwischenahn- Modul 6 (P70706) 
LOCATION:Bad Zwischenahn, kvhs, Raum 11, Obergeschoss, Schulstr. 5, 26160 Bad Zwischenahn
END:VEVENT
BEGIN:VEVENT
DTSTAMP:20260421T191220
DTSTART;TZID=Europe/Berlin:20260629T083000
DTEND;TZID=Europe/Berlin:20260629T114500
UID:P70706-20260629T083000@KVHSAMMERLAND
SUMMARY:Integrationskurs Bad Zwischenahn- Modul 6 (P70706) 
LOCATION:Bad Zwischenahn, kvhs, Raum 11, Obergeschoss, Schulstr. 5, 26160 Bad Zwischenahn
END:VEVENT
BEGIN:VEVENT
DTSTAMP:20260421T191220
DTSTART;TZID=Europe/Berlin:20260630T083000
DTEND;TZID=Europe/Berlin:20260630T114500
UID:P70706-20260630T083000@KVHSAMMERLAND
SUMMARY:Integrationskurs Bad Zwischenahn- Modul 6 (P70706) 
LOCATION:Bad Zwischenahn, kvhs, Raum 11, Obergeschoss, Schulstr. 5, 26160 Bad Zwischenahn
END:VEVENT
BEGIN:VEVENT
DTSTAMP:20260421T191220
DTSTART;TZID=Europe/Berlin:20260701T083000
DTEND;TZID=Europe/Berlin:20260701T114500
UID:P70706-20260701T083000@KVHSAMMERLAND
SUMMARY:Integrationskurs Bad Zwischenahn- Modul 6 (P70706) 
LOCATION:Bad Zwischenahn, kvhs, Raum 11, Obergeschoss, Schulstr. 5, 26160 Bad Zwischenahn
END:VEVENT
BEGIN:VEVENT
DTSTAMP:20260421T191220
DTSTART;TZID=Europe/Berlin:20260813T083000
DTEND;TZID=Europe/Berlin:20260813T114500
UID:P70706-20260813T083000@KVHSAMMERLAND
SUMMARY:Integrationskurs Bad Zwischenahn- Modul 6 (P70706) 
LOCATION:Bad Zwischenahn, kvhs, Raum 11, Obergeschoss, Schulstr. 5, 26160 Bad Zwischenahn
END:VEVENT
BEGIN:VEVENT
DTSTAMP:20260421T191220
DTSTART;TZID=Europe/Berlin:20260814T083000
DTEND;TZID=Europe/Berlin:20260814T114500
UID:P70706-20260814T083000@KVHSAMMERLAND
SUMMARY:Integrationskurs Bad Zwischenahn- Modul 6 (P70706) 
LOCATION:Bad Zwischenahn, kvhs, Raum 11, Obergeschoss, Schulstr. 5, 26160 Bad Zwischenahn
END:VEVENT
BEGIN:VEVENT
DTSTAMP:20260421T191220
DTSTART;TZID=Europe/Berlin:20260817T083000
DTEND;TZID=Europe/Berlin:20260817T114500
UID:P70706-20260817T083000@KVHSAMMERLAND
SUMMARY:Integrationskurs Bad Zwischenahn- Modul 6 (P70706) 
LOCATION:Bad Zwischenahn, kvhs, Raum 11, Obergeschoss, Schulstr. 5, 26160 Bad Zwischenahn
END:VEVENT
BEGIN:VEVENT
DTSTAMP:20260421T191220
DTSTART;TZID=Europe/Berlin:20260818T083000
DTEND;TZID=Europe/Berlin:20260818T114500
UID:P70706-20260818T083000@KVHSAMMERLAND
SUMMARY:Integrationskurs Bad Zwischenahn- Modul 6 (P70706) 
LOCATION:Bad Zwischenahn, kvhs, Raum 11, Obergeschoss, Schulstr. 5, 26160 Bad Zwischenahn
END:VEVENT
BEGIN:VEVENT
DTSTAMP:20260421T191220
DTSTART;TZID=Europe/Berlin:20260819T083000
DTEND;TZID=Europe/Berlin:20260819T114500
UID:P70706-20260819T083000@KVHSAMMERLAND
SUMMARY:Integrationskurs Bad Zwischenahn- Modul 6 (P70706) 
LOCATION:Bad Zwischenahn, kvhs, Raum 11, Obergeschoss, Schulstr. 5, 26160 Bad Zwischenahn
END:VEVENT
BEGIN:VEVENT
DTSTAMP:20260421T191220
DTSTART;TZID=Europe/Berlin:20260820T083000
DTEND;TZID=Europe/Berlin:20260820T114500
UID:P70706-20260820T083000@KVHSAMMERLAND
SUMMARY:Integrationskurs Bad Zwischenahn- Modul 6 (P70706) 
LOCATION:Bad Zwischenahn, kvhs, Raum 11, Obergeschoss, Schulstr. 5, 26160 Bad Zwischenahn
END:VEVENT
BEGIN:VEVENT
DTSTAMP:20260421T191220
DTSTART;TZID=Europe/Berlin:20260821T083000
DTEND;TZID=Europe/Berlin:20260821T114500
UID:P70706-20260821T083000@KVHSAMMERLAND
SUMMARY:Integrationskurs Bad Zwischenahn- Modul 6 (P70706) 
LOCATION:Bad Zwischenahn, kvhs, Raum 11, Obergeschoss, Schulstr. 5, 26160 Bad Zwischenahn
END:VEVENT
BEGIN:VEVENT
DTSTAMP:20260421T191220
DTSTART;TZID=Europe/Berlin:20260824T083000
DTEND;TZID=Europe/Berlin:20260824T114500
UID:P70706-20260824T083000@KVHSAMMERLAND
SUMMARY:Integrationskurs Bad Zwischenahn- Modul 6 (P70706) 
LOCATION:Bad Zwischenahn, kvhs, Raum 11, Obergeschoss, Schulstr. 5, 26160 Bad Zwischenahn
END:VEVENT
BEGIN:VEVENT
DTSTAMP:20260421T191220
DTSTART;TZID=Europe/Berlin:20260829T083000
DTEND;TZID=Europe/Berlin:20260829T150000
UID:P70706-20260829T083000@KVHSAMMERLAND
DESCRIPTION:DTZ
SUMMARY:Integrationskurs Bad Zwischenahn- Modul 6 (P70706) 
LOCATION:Westerstede, kvhs, Raum B201, Seminarraum, Am Esch 10, 26655 Westerstede
END:VEVENT
END:VCALENDAR