BEGIN:VCALENDAR
VERSION:2.0
PRODID:https://www.kufer.de/kuferweb / DE
METHOD:PUBLISH
CALSCALE:GREGORIAN
X-WR-TIMEZONE:Europe/Berlin
BEGIN:VTIMEZONE
TZID:Europe/Berlin
X-LIC-LOCATION:Europe/Berlin
BEGIN:DAYLIGHT
TZOFFSETFROM:+0100
TZOFFSETTO:+0200
TZNAME:CEST
DTSTART:19700329T020000
RRULE:FREQ=YEARLY;INTERVAL=1;BYDAY=-1SU;BYMONTH=3
END:DAYLIGHT
BEGIN:STANDARD
TZOFFSETFROM:+0200
TZOFFSETTO:+0100
TZNAME:CET
DTSTART:19701025T030000
RRULE:FREQ=YEARLY;INTERVAL=1;BYDAY=-1SU;BYMONTH=10
END:STANDARD
END:VTIMEZONE
BEGIN:VEVENT
DTSTAMP:20260422T125227
DTSTART;TZID=Europe/Berlin:20260428T083000
DTEND;TZID=Europe/Berlin:20260428T114500
UID:P70705-20260428T083000@KVHSAMMERLAND
SUMMARY:Integrationskurs Bad Zwischenahn- Modul 5 (P70705) 
LOCATION:Bad Zwischenahn, kvhs, Raum 11, Obergeschoss, Schulstr. 5, 26160 Bad Zwischenahn
END:VEVENT
BEGIN:VEVENT
DTSTAMP:20260422T125227
DTSTART;TZID=Europe/Berlin:20260429T083000
DTEND;TZID=Europe/Berlin:20260429T114500
UID:P70705-20260429T083000@KVHSAMMERLAND
SUMMARY:Integrationskurs Bad Zwischenahn- Modul 5 (P70705) 
LOCATION:Bad Zwischenahn, kvhs, Raum 11, Obergeschoss, Schulstr. 5, 26160 Bad Zwischenahn
END:VEVENT
BEGIN:VEVENT
DTSTAMP:20260422T125227
DTSTART;TZID=Europe/Berlin:20260430T083000
DTEND;TZID=Europe/Berlin:20260430T114500
UID:P70705-20260430T083000@KVHSAMMERLAND
SUMMARY:Integrationskurs Bad Zwischenahn- Modul 5 (P70705) 
LOCATION:Bad Zwischenahn, kvhs, Raum 11, Obergeschoss, Schulstr. 5, 26160 Bad Zwischenahn
END:VEVENT
BEGIN:VEVENT
DTSTAMP:20260422T125227
DTSTART;TZID=Europe/Berlin:20260504T083000
DTEND;TZID=Europe/Berlin:20260504T114500
UID:P70705-20260504T083000@KVHSAMMERLAND
SUMMARY:Integrationskurs Bad Zwischenahn- Modul 5 (P70705) 
LOCATION:Bad Zwischenahn, kvhs, Raum 11, Obergeschoss, Schulstr. 5, 26160 Bad Zwischenahn
END:VEVENT
BEGIN:VEVENT
DTSTAMP:20260422T125227
DTSTART;TZID=Europe/Berlin:20260505T083000
DTEND;TZID=Europe/Berlin:20260505T114500
UID:P70705-20260505T083000@KVHSAMMERLAND
SUMMARY:Integrationskurs Bad Zwischenahn- Modul 5 (P70705) 
LOCATION:Bad Zwischenahn, kvhs, Raum 11, Obergeschoss, Schulstr. 5, 26160 Bad Zwischenahn
END:VEVENT
BEGIN:VEVENT
DTSTAMP:20260422T125227
DTSTART;TZID=Europe/Berlin:20260506T083000
DTEND;TZID=Europe/Berlin:20260506T114500
UID:P70705-20260506T083000@KVHSAMMERLAND
SUMMARY:Integrationskurs Bad Zwischenahn- Modul 5 (P70705) 
LOCATION:Bad Zwischenahn, kvhs, Raum 11, Obergeschoss, Schulstr. 5, 26160 Bad Zwischenahn
END:VEVENT
BEGIN:VEVENT
DTSTAMP:20260422T125227
DTSTART;TZID=Europe/Berlin:20260507T083000
DTEND;TZID=Europe/Berlin:20260507T114500
UID:P70705-20260507T083000@KVHSAMMERLAND
SUMMARY:Integrationskurs Bad Zwischenahn- Modul 5 (P70705) 
LOCATION:Bad Zwischenahn, kvhs, Raum 11, Obergeschoss, Schulstr. 5, 26160 Bad Zwischenahn
END:VEVENT
BEGIN:VEVENT
DTSTAMP:20260422T125227
DTSTART;TZID=Europe/Berlin:20260508T083000
DTEND;TZID=Europe/Berlin:20260508T114500
UID:P70705-20260508T083000@KVHSAMMERLAND
SUMMARY:Integrationskurs Bad Zwischenahn- Modul 5 (P70705) 
LOCATION:Bad Zwischenahn, kvhs, Raum 11, Obergeschoss, Schulstr. 5, 26160 Bad Zwischenahn
END:VEVENT
BEGIN:VEVENT
DTSTAMP:20260422T125227
DTSTART;TZID=Europe/Berlin:20260511T083000
DTEND;TZID=Europe/Berlin:20260511T114500
UID:P70705-20260511T083000@KVHSAMMERLAND
SUMMARY:Integrationskurs Bad Zwischenahn- Modul 5 (P70705) 
LOCATION:Bad Zwischenahn, kvhs, Raum 11, Obergeschoss, Schulstr. 5, 26160 Bad Zwischenahn
END:VEVENT
BEGIN:VEVENT
DTSTAMP:20260422T125227
DTSTART;TZID=Europe/Berlin:20260512T083000
DTEND;TZID=Europe/Berlin:20260512T114500
UID:P70705-20260512T083000@KVHSAMMERLAND
SUMMARY:Integrationskurs Bad Zwischenahn- Modul 5 (P70705) 
LOCATION:Bad Zwischenahn, kvhs, Raum 11, Obergeschoss, Schulstr. 5, 26160 Bad Zwischenahn
END:VEVENT
BEGIN:VEVENT
DTSTAMP:20260422T125227
DTSTART;TZID=Europe/Berlin:20260513T083000
DTEND;TZID=Europe/Berlin:20260513T114500
UID:P70705-20260513T083000@KVHSAMMERLAND
SUMMARY:Integrationskurs Bad Zwischenahn- Modul 5 (P70705) 
LOCATION:Bad Zwischenahn, kvhs, Raum 11, Obergeschoss, Schulstr. 5, 26160 Bad Zwischenahn
END:VEVENT
BEGIN:VEVENT
DTSTAMP:20260422T125227
DTSTART;TZID=Europe/Berlin:20260518T083000
DTEND;TZID=Europe/Berlin:20260518T114500
UID:P70705-20260518T083000@KVHSAMMERLAND
SUMMARY:Integrationskurs Bad Zwischenahn- Modul 5 (P70705) 
LOCATION:Bad Zwischenahn, kvhs, Raum 11, Obergeschoss, Schulstr. 5, 26160 Bad Zwischenahn
END:VEVENT
BEGIN:VEVENT
DTSTAMP:20260422T125227
DTSTART;TZID=Europe/Berlin:20260519T083000
DTEND;TZID=Europe/Berlin:20260519T114500
UID:P70705-20260519T083000@KVHSAMMERLAND
SUMMARY:Integrationskurs Bad Zwischenahn- Modul 5 (P70705) 
LOCATION:Bad Zwischenahn, kvhs, Raum 11, Obergeschoss, Schulstr. 5, 26160 Bad Zwischenahn
END:VEVENT
BEGIN:VEVENT
DTSTAMP:20260422T125227
DTSTART;TZID=Europe/Berlin:20260520T083000
DTEND;TZID=Europe/Berlin:20260520T114500
UID:P70705-20260520T083000@KVHSAMMERLAND
SUMMARY:Integrationskurs Bad Zwischenahn- Modul 5 (P70705) 
LOCATION:Bad Zwischenahn, kvhs, Raum 11, Obergeschoss, Schulstr. 5, 26160 Bad Zwischenahn
END:VEVENT
BEGIN:VEVENT
DTSTAMP:20260422T125227
DTSTART;TZID=Europe/Berlin:20260521T083000
DTEND;TZID=Europe/Berlin:20260521T114500
UID:P70705-20260521T083000@KVHSAMMERLAND
SUMMARY:Integrationskurs Bad Zwischenahn- Modul 5 (P70705) 
LOCATION:Bad Zwischenahn, kvhs, Raum 11, Obergeschoss, Schulstr. 5, 26160 Bad Zwischenahn
END:VEVENT
BEGIN:VEVENT
DTSTAMP:20260422T125227
DTSTART;TZID=Europe/Berlin:20260522T083000
DTEND;TZID=Europe/Berlin:20260522T114500
UID:P70705-20260522T083000@KVHSAMMERLAND
SUMMARY:Integrationskurs Bad Zwischenahn- Modul 5 (P70705) 
LOCATION:Bad Zwischenahn, kvhs, Raum 11, Obergeschoss, Schulstr. 5, 26160 Bad Zwischenahn
END:VEVENT
BEGIN:VEVENT
DTSTAMP:20260422T125227
DTSTART;TZID=Europe/Berlin:20260527T083000
DTEND;TZID=Europe/Berlin:20260527T114500
UID:P70705-20260527T083000@KVHSAMMERLAND
SUMMARY:Integrationskurs Bad Zwischenahn- Modul 5 (P70705) 
LOCATION:Bad Zwischenahn, kvhs, Raum 11, Obergeschoss, Schulstr. 5, 26160 Bad Zwischenahn
END:VEVENT
BEGIN:VEVENT
DTSTAMP:20260422T125227
DTSTART;TZID=Europe/Berlin:20260528T083000
DTEND;TZID=Europe/Berlin:20260528T114500
UID:P70705-20260528T083000@KVHSAMMERLAND
SUMMARY:Integrationskurs Bad Zwischenahn- Modul 5 (P70705) 
LOCATION:Bad Zwischenahn, kvhs, Raum 11, Obergeschoss, Schulstr. 5, 26160 Bad Zwischenahn
END:VEVENT
BEGIN:VEVENT
DTSTAMP:20260422T125227
DTSTART;TZID=Europe/Berlin:20260529T083000
DTEND;TZID=Europe/Berlin:20260529T114500
UID:P70705-20260529T083000@KVHSAMMERLAND
SUMMARY:Integrationskurs Bad Zwischenahn- Modul 5 (P70705) 
LOCATION:Bad Zwischenahn, kvhs, Raum 11, Obergeschoss, Schulstr. 5, 26160 Bad Zwischenahn
END:VEVENT
BEGIN:VEVENT
DTSTAMP:20260422T125227
DTSTART;TZID=Europe/Berlin:20260601T083000
DTEND;TZID=Europe/Berlin:20260601T114500
UID:P70705-20260601T083000@KVHSAMMERLAND
SUMMARY:Integrationskurs Bad Zwischenahn- Modul 5 (P70705) 
LOCATION:Bad Zwischenahn, kvhs, Raum 11, Obergeschoss, Schulstr. 5, 26160 Bad Zwischenahn
END:VEVENT
BEGIN:VEVENT
DTSTAMP:20260422T125227
DTSTART;TZID=Europe/Berlin:20260602T083000
DTEND;TZID=Europe/Berlin:20260602T114500
UID:P70705-20260602T083000@KVHSAMMERLAND
SUMMARY:Integrationskurs Bad Zwischenahn- Modul 5 (P70705) 
LOCATION:Bad Zwischenahn, kvhs, Raum 11, Obergeschoss, Schulstr. 5, 26160 Bad Zwischenahn
END:VEVENT
BEGIN:VEVENT
DTSTAMP:20260422T125227
DTSTART;TZID=Europe/Berlin:20260603T083000
DTEND;TZID=Europe/Berlin:20260603T114500
UID:P70705-20260603T083000@KVHSAMMERLAND
SUMMARY:Integrationskurs Bad Zwischenahn- Modul 5 (P70705) 
LOCATION:Bad Zwischenahn, kvhs, Raum 11, Obergeschoss, Schulstr. 5, 26160 Bad Zwischenahn
END:VEVENT
BEGIN:VEVENT
DTSTAMP:20260422T125227
DTSTART;TZID=Europe/Berlin:20260604T083000
DTEND;TZID=Europe/Berlin:20260604T114500
UID:P70705-20260604T083000@KVHSAMMERLAND
SUMMARY:Integrationskurs Bad Zwischenahn- Modul 5 (P70705) 
LOCATION:Bad Zwischenahn, kvhs, Raum 11, Obergeschoss, Schulstr. 5, 26160 Bad Zwischenahn
END:VEVENT
BEGIN:VEVENT
DTSTAMP:20260422T125227
DTSTART;TZID=Europe/Berlin:20260605T083000
DTEND;TZID=Europe/Berlin:20260605T114500
UID:P70705-20260605T083000@KVHSAMMERLAND
SUMMARY:Integrationskurs Bad Zwischenahn- Modul 5 (P70705) 
LOCATION:Bad Zwischenahn, kvhs, Raum 11, Obergeschoss, Schulstr. 5, 26160 Bad Zwischenahn
END:VEVENT
BEGIN:VEVENT
DTSTAMP:20260422T125227
DTSTART;TZID=Europe/Berlin:20260608T083000
DTEND;TZID=Europe/Berlin:20260608T114500
UID:P70705-20260608T083000@KVHSAMMERLAND
SUMMARY:Integrationskurs Bad Zwischenahn- Modul 5 (P70705) 
LOCATION:Bad Zwischenahn, kvhs, Raum 11, Obergeschoss, Schulstr. 5, 26160 Bad Zwischenahn
END:VEVENT
END:VCALENDAR