BEGIN:VCALENDAR
VERSION:2.0
PRODID:https://www.kufer.de/kuferweb / DE
METHOD:PUBLISH
CALSCALE:GREGORIAN
X-WR-TIMEZONE:Europe/Berlin
BEGIN:VTIMEZONE
TZID:Europe/Berlin
X-LIC-LOCATION:Europe/Berlin
BEGIN:DAYLIGHT
TZOFFSETFROM:+0100
TZOFFSETTO:+0200
TZNAME:CEST
DTSTART:19700329T020000
RRULE:FREQ=YEARLY;INTERVAL=1;BYDAY=-1SU;BYMONTH=3
END:DAYLIGHT
BEGIN:STANDARD
TZOFFSETFROM:+0200
TZOFFSETTO:+0100
TZNAME:CET
DTSTART:19701025T030000
RRULE:FREQ=YEARLY;INTERVAL=1;BYDAY=-1SU;BYMONTH=10
END:STANDARD
END:VTIMEZONE
BEGIN:VEVENT
DTSTAMP:20260421T155314
DTSTART;TZID=Europe/Berlin:20260311T083000
DTEND;TZID=Europe/Berlin:20260311T114500
UID:P70614-20260311T083000@KVHSAMMERLAND
SUMMARY:Integrationskurs mit Alphabetisierung Westerstede - Modul 4 (P70614) 
LOCATION:Westerstede, kvhs, Raum B103, Seminarraum, Am Esch 10, 26655 Westerstede
END:VEVENT
BEGIN:VEVENT
DTSTAMP:20260421T155314
DTSTART;TZID=Europe/Berlin:20260312T083000
DTEND;TZID=Europe/Berlin:20260312T114500
UID:P70614-20260312T083000@KVHSAMMERLAND
SUMMARY:Integrationskurs mit Alphabetisierung Westerstede - Modul 4 (P70614) 
LOCATION:Westerstede, kvhs, Raum B103, Seminarraum, Am Esch 10, 26655 Westerstede
END:VEVENT
BEGIN:VEVENT
DTSTAMP:20260421T155314
DTSTART;TZID=Europe/Berlin:20260313T083000
DTEND;TZID=Europe/Berlin:20260313T114500
UID:P70614-20260313T083000@KVHSAMMERLAND
SUMMARY:Integrationskurs mit Alphabetisierung Westerstede - Modul 4 (P70614) 
LOCATION:Westerstede, kvhs, Raum B103, Seminarraum, Am Esch 10, 26655 Westerstede
END:VEVENT
BEGIN:VEVENT
DTSTAMP:20260421T155314
DTSTART;TZID=Europe/Berlin:20260316T083000
DTEND;TZID=Europe/Berlin:20260316T114500
UID:P70614-20260316T083000@KVHSAMMERLAND
SUMMARY:Integrationskurs mit Alphabetisierung Westerstede - Modul 4 (P70614) 
LOCATION:Westerstede, kvhs, Raum B103, Seminarraum, Am Esch 10, 26655 Westerstede
END:VEVENT
BEGIN:VEVENT
DTSTAMP:20260421T155314
DTSTART;TZID=Europe/Berlin:20260317T083000
DTEND;TZID=Europe/Berlin:20260317T114500
UID:P70614-20260317T083000@KVHSAMMERLAND
SUMMARY:Integrationskurs mit Alphabetisierung Westerstede - Modul 4 (P70614) 
LOCATION:Westerstede, kvhs, Raum B103, Seminarraum, Am Esch 10, 26655 Westerstede
END:VEVENT
BEGIN:VEVENT
DTSTAMP:20260421T155314
DTSTART;TZID=Europe/Berlin:20260318T083000
DTEND;TZID=Europe/Berlin:20260318T114500
UID:P70614-20260318T083000@KVHSAMMERLAND
SUMMARY:Integrationskurs mit Alphabetisierung Westerstede - Modul 4 (P70614) 
LOCATION:Westerstede, kvhs, Raum B103, Seminarraum, Am Esch 10, 26655 Westerstede
END:VEVENT
BEGIN:VEVENT
DTSTAMP:20260421T155314
DTSTART;TZID=Europe/Berlin:20260319T083000
DTEND;TZID=Europe/Berlin:20260319T114500
UID:P70614-20260319T083000@KVHSAMMERLAND
SUMMARY:Integrationskurs mit Alphabetisierung Westerstede - Modul 4 (P70614) 
LOCATION:Westerstede, kvhs, Raum B103, Seminarraum, Am Esch 10, 26655 Westerstede
END:VEVENT
BEGIN:VEVENT
DTSTAMP:20260421T155314
DTSTART;TZID=Europe/Berlin:20260320T083000
DTEND;TZID=Europe/Berlin:20260320T114500
UID:P70614-20260320T083000@KVHSAMMERLAND
SUMMARY:Integrationskurs mit Alphabetisierung Westerstede - Modul 4 (P70614) 
LOCATION:Westerstede, kvhs, Raum B103, Seminarraum, Am Esch 10, 26655 Westerstede
END:VEVENT
BEGIN:VEVENT
DTSTAMP:20260421T155314
DTSTART;TZID=Europe/Berlin:20260408T083000
DTEND;TZID=Europe/Berlin:20260408T114500
UID:P70614-20260408T083000@KVHSAMMERLAND
SUMMARY:Integrationskurs mit Alphabetisierung Westerstede - Modul 4 (P70614) 
LOCATION:Westerstede, kvhs, Raum B103, Seminarraum, Am Esch 10, 26655 Westerstede
END:VEVENT
BEGIN:VEVENT
DTSTAMP:20260421T155314
DTSTART;TZID=Europe/Berlin:20260409T083000
DTEND;TZID=Europe/Berlin:20260409T114500
UID:P70614-20260409T083000@KVHSAMMERLAND
SUMMARY:Integrationskurs mit Alphabetisierung Westerstede - Modul 4 (P70614) 
LOCATION:Westerstede, kvhs, Raum B103, Seminarraum, Am Esch 10, 26655 Westerstede
END:VEVENT
BEGIN:VEVENT
DTSTAMP:20260421T155314
DTSTART;TZID=Europe/Berlin:20260410T083000
DTEND;TZID=Europe/Berlin:20260410T114500
UID:P70614-20260410T083000@KVHSAMMERLAND
SUMMARY:Integrationskurs mit Alphabetisierung Westerstede - Modul 4 (P70614) 
LOCATION:Westerstede, kvhs, Raum B103, Seminarraum, Am Esch 10, 26655 Westerstede
END:VEVENT
BEGIN:VEVENT
DTSTAMP:20260421T155314
DTSTART;TZID=Europe/Berlin:20260413T083000
DTEND;TZID=Europe/Berlin:20260413T114500
UID:P70614-20260413T083000@KVHSAMMERLAND
SUMMARY:Integrationskurs mit Alphabetisierung Westerstede - Modul 4 (P70614) 
LOCATION:Westerstede, kvhs, Raum A004 - Erdgeschoss, Am Esch 10, 26655 Westerstede
END:VEVENT
BEGIN:VEVENT
DTSTAMP:20260421T155314
DTSTART;TZID=Europe/Berlin:20260414T083000
DTEND;TZID=Europe/Berlin:20260414T114500
UID:P70614-20260414T083000@KVHSAMMERLAND
SUMMARY:Integrationskurs mit Alphabetisierung Westerstede - Modul 4 (P70614) 
LOCATION:Westerstede, kvhs, Raum A004 - Erdgeschoss, Am Esch 10, 26655 Westerstede
END:VEVENT
BEGIN:VEVENT
DTSTAMP:20260421T155314
DTSTART;TZID=Europe/Berlin:20260415T083000
DTEND;TZID=Europe/Berlin:20260415T114500
UID:P70614-20260415T083000@KVHSAMMERLAND
SUMMARY:Integrationskurs mit Alphabetisierung Westerstede - Modul 4 (P70614) 
LOCATION:Westerstede, kvhs, Raum A004 - Erdgeschoss, Am Esch 10, 26655 Westerstede
END:VEVENT
BEGIN:VEVENT
DTSTAMP:20260421T155314
DTSTART;TZID=Europe/Berlin:20260416T083000
DTEND;TZID=Europe/Berlin:20260416T114500
UID:P70614-20260416T083000@KVHSAMMERLAND
SUMMARY:Integrationskurs mit Alphabetisierung Westerstede - Modul 4 (P70614) 
LOCATION:Westerstede, kvhs, Raum A004 - Erdgeschoss, Am Esch 10, 26655 Westerstede
END:VEVENT
BEGIN:VEVENT
DTSTAMP:20260421T155314
DTSTART;TZID=Europe/Berlin:20260417T083000
DTEND;TZID=Europe/Berlin:20260417T114500
UID:P70614-20260417T083000@KVHSAMMERLAND
SUMMARY:Integrationskurs mit Alphabetisierung Westerstede - Modul 4 (P70614) 
LOCATION:Westerstede, kvhs, Raum A004 - Erdgeschoss, Am Esch 10, 26655 Westerstede
END:VEVENT
BEGIN:VEVENT
DTSTAMP:20260421T155314
DTSTART;TZID=Europe/Berlin:20260420T083000
DTEND;TZID=Europe/Berlin:20260420T114500
UID:P70614-20260420T083000@KVHSAMMERLAND
SUMMARY:Integrationskurs mit Alphabetisierung Westerstede - Modul 4 (P70614) 
LOCATION:Westerstede, kvhs, Raum A004 - Erdgeschoss, Am Esch 10, 26655 Westerstede
END:VEVENT
BEGIN:VEVENT
DTSTAMP:20260421T155314
DTSTART;TZID=Europe/Berlin:20260421T083000
DTEND;TZID=Europe/Berlin:20260421T114500
UID:P70614-20260421T083000@KVHSAMMERLAND
SUMMARY:Integrationskurs mit Alphabetisierung Westerstede - Modul 4 (P70614) 
LOCATION:Westerstede, kvhs, Raum A004 - Erdgeschoss, Am Esch 10, 26655 Westerstede
END:VEVENT
BEGIN:VEVENT
DTSTAMP:20260421T155314
DTSTART;TZID=Europe/Berlin:20260422T083000
DTEND;TZID=Europe/Berlin:20260422T114500
UID:P70614-20260422T083000@KVHSAMMERLAND
SUMMARY:Integrationskurs mit Alphabetisierung Westerstede - Modul 4 (P70614) 
LOCATION:Westerstede, kvhs, Raum A004 - Erdgeschoss, Am Esch 10, 26655 Westerstede
END:VEVENT
BEGIN:VEVENT
DTSTAMP:20260421T155314
DTSTART;TZID=Europe/Berlin:20260423T083000
DTEND;TZID=Europe/Berlin:20260423T114500
UID:P70614-20260423T083000@KVHSAMMERLAND
SUMMARY:Integrationskurs mit Alphabetisierung Westerstede - Modul 4 (P70614) 
LOCATION:Westerstede, kvhs, Raum A004 - Erdgeschoss, Am Esch 10, 26655 Westerstede
END:VEVENT
BEGIN:VEVENT
DTSTAMP:20260421T155314
DTSTART;TZID=Europe/Berlin:20260424T083000
DTEND;TZID=Europe/Berlin:20260424T114500
UID:P70614-20260424T083000@KVHSAMMERLAND
SUMMARY:Integrationskurs mit Alphabetisierung Westerstede - Modul 4 (P70614) 
LOCATION:Westerstede, kvhs, Raum A004 - Erdgeschoss, Am Esch 10, 26655 Westerstede
END:VEVENT
BEGIN:VEVENT
DTSTAMP:20260421T155314
DTSTART;TZID=Europe/Berlin:20260427T083000
DTEND;TZID=Europe/Berlin:20260427T114500
UID:P70614-20260427T083000@KVHSAMMERLAND
SUMMARY:Integrationskurs mit Alphabetisierung Westerstede - Modul 4 (P70614) 
LOCATION:Westerstede, kvhs, Raum A004 - Erdgeschoss, Am Esch 10, 26655 Westerstede
END:VEVENT
BEGIN:VEVENT
DTSTAMP:20260421T155314
DTSTART;TZID=Europe/Berlin:20260428T083000
DTEND;TZID=Europe/Berlin:20260428T114500
UID:P70614-20260428T083000@KVHSAMMERLAND
SUMMARY:Integrationskurs mit Alphabetisierung Westerstede - Modul 4 (P70614) 
LOCATION:Westerstede, kvhs, Raum A004 - Erdgeschoss, Am Esch 10, 26655 Westerstede
END:VEVENT
BEGIN:VEVENT
DTSTAMP:20260421T155314
DTSTART;TZID=Europe/Berlin:20260429T083000
DTEND;TZID=Europe/Berlin:20260429T114500
UID:P70614-20260429T083000@KVHSAMMERLAND
SUMMARY:Integrationskurs mit Alphabetisierung Westerstede - Modul 4 (P70614) 
LOCATION:Westerstede, kvhs, Raum A004 - Erdgeschoss, Am Esch 10, 26655 Westerstede
END:VEVENT
BEGIN:VEVENT
DTSTAMP:20260421T155314
DTSTART;TZID=Europe/Berlin:20260430T083000
DTEND;TZID=Europe/Berlin:20260430T114500
UID:P70614-20260430T083000@KVHSAMMERLAND
SUMMARY:Integrationskurs mit Alphabetisierung Westerstede - Modul 4 (P70614) 
LOCATION:Westerstede, kvhs, Raum A004 - Erdgeschoss, Am Esch 10, 26655 Westerstede
END:VEVENT
END:VCALENDAR