BEGIN:VCALENDAR
VERSION:2.0
PRODID:https://www.kufer.de/kuferweb / DE
METHOD:PUBLISH
CALSCALE:GREGORIAN
X-WR-TIMEZONE:Europe/Berlin
BEGIN:VTIMEZONE
TZID:Europe/Berlin
X-LIC-LOCATION:Europe/Berlin
BEGIN:DAYLIGHT
TZOFFSETFROM:+0100
TZOFFSETTO:+0200
TZNAME:CEST
DTSTART:19700329T020000
RRULE:FREQ=YEARLY;INTERVAL=1;BYDAY=-1SU;BYMONTH=3
END:DAYLIGHT
BEGIN:STANDARD
TZOFFSETFROM:+0200
TZOFFSETTO:+0100
TZNAME:CET
DTSTART:19701025T030000
RRULE:FREQ=YEARLY;INTERVAL=1;BYDAY=-1SU;BYMONTH=10
END:STANDARD
END:VTIMEZONE
BEGIN:VEVENT
DTSTAMP:20260421T153958
DTSTART;TZID=Europe/Berlin:20260817T084500
DTEND;TZID=Europe/Berlin:20260817T120000
UID:P70606-20260817T084500@KVHSAMMERLAND
SUMMARY:Integrationskurs Westerstede - Modul 6 (P70606) 
LOCATION:Westerstede, kvhs, Raum B201, Seminarraum, Am Esch 10, 26655 Westerstede
END:VEVENT
BEGIN:VEVENT
DTSTAMP:20260421T153958
DTSTART;TZID=Europe/Berlin:20260818T084500
DTEND;TZID=Europe/Berlin:20260818T120000
UID:P70606-20260818T084500@KVHSAMMERLAND
SUMMARY:Integrationskurs Westerstede - Modul 6 (P70606) 
LOCATION:Westerstede, kvhs, Raum B201, Seminarraum, Am Esch 10, 26655 Westerstede
END:VEVENT
BEGIN:VEVENT
DTSTAMP:20260421T153958
DTSTART;TZID=Europe/Berlin:20260819T084500
DTEND;TZID=Europe/Berlin:20260819T120000
UID:P70606-20260819T084500@KVHSAMMERLAND
SUMMARY:Integrationskurs Westerstede - Modul 6 (P70606) 
LOCATION:Westerstede, kvhs, Raum B201, Seminarraum, Am Esch 10, 26655 Westerstede
END:VEVENT
BEGIN:VEVENT
DTSTAMP:20260421T153958
DTSTART;TZID=Europe/Berlin:20260820T084500
DTEND;TZID=Europe/Berlin:20260820T120000
UID:P70606-20260820T084500@KVHSAMMERLAND
SUMMARY:Integrationskurs Westerstede - Modul 6 (P70606) 
LOCATION:Westerstede, kvhs, Raum B201, Seminarraum, Am Esch 10, 26655 Westerstede
END:VEVENT
BEGIN:VEVENT
DTSTAMP:20260421T153958
DTSTART;TZID=Europe/Berlin:20260821T084500
DTEND;TZID=Europe/Berlin:20260821T120000
UID:P70606-20260821T084500@KVHSAMMERLAND
SUMMARY:Integrationskurs Westerstede - Modul 6 (P70606) 
LOCATION:Westerstede, kvhs, Raum B201, Seminarraum, Am Esch 10, 26655 Westerstede
END:VEVENT
BEGIN:VEVENT
DTSTAMP:20260421T153958
DTSTART;TZID=Europe/Berlin:20260824T084500
DTEND;TZID=Europe/Berlin:20260824T120000
UID:P70606-20260824T084500@KVHSAMMERLAND
SUMMARY:Integrationskurs Westerstede - Modul 6 (P70606) 
LOCATION:Westerstede, kvhs, Raum B201, Seminarraum, Am Esch 10, 26655 Westerstede
END:VEVENT
BEGIN:VEVENT
DTSTAMP:20260421T153958
DTSTART;TZID=Europe/Berlin:20260825T084500
DTEND;TZID=Europe/Berlin:20260825T120000
UID:P70606-20260825T084500@KVHSAMMERLAND
SUMMARY:Integrationskurs Westerstede - Modul 6 (P70606) 
LOCATION:Westerstede, kvhs, Raum B201, Seminarraum, Am Esch 10, 26655 Westerstede
END:VEVENT
BEGIN:VEVENT
DTSTAMP:20260421T153958
DTSTART;TZID=Europe/Berlin:20260826T084500
DTEND;TZID=Europe/Berlin:20260826T120000
UID:P70606-20260826T084500@KVHSAMMERLAND
SUMMARY:Integrationskurs Westerstede - Modul 6 (P70606) 
LOCATION:Westerstede, kvhs, Raum B201, Seminarraum, Am Esch 10, 26655 Westerstede
END:VEVENT
BEGIN:VEVENT
DTSTAMP:20260421T153958
DTSTART;TZID=Europe/Berlin:20260827T084500
DTEND;TZID=Europe/Berlin:20260827T120000
UID:P70606-20260827T084500@KVHSAMMERLAND
SUMMARY:Integrationskurs Westerstede - Modul 6 (P70606) 
LOCATION:Westerstede, kvhs, Raum B201, Seminarraum, Am Esch 10, 26655 Westerstede
END:VEVENT
BEGIN:VEVENT
DTSTAMP:20260421T153958
DTSTART;TZID=Europe/Berlin:20260828T084500
DTEND;TZID=Europe/Berlin:20260828T120000
UID:P70606-20260828T084500@KVHSAMMERLAND
SUMMARY:Integrationskurs Westerstede - Modul 6 (P70606) 
LOCATION:Westerstede, kvhs, Raum B201, Seminarraum, Am Esch 10, 26655 Westerstede
END:VEVENT
BEGIN:VEVENT
DTSTAMP:20260421T153958
DTSTART;TZID=Europe/Berlin:20260831T084500
DTEND;TZID=Europe/Berlin:20260831T120000
UID:P70606-20260831T084500@KVHSAMMERLAND
SUMMARY:Integrationskurs Westerstede - Modul 6 (P70606) 
LOCATION:Westerstede, kvhs, Raum B201, Seminarraum, Am Esch 10, 26655 Westerstede
END:VEVENT
BEGIN:VEVENT
DTSTAMP:20260421T153958
DTSTART;TZID=Europe/Berlin:20260901T084500
DTEND;TZID=Europe/Berlin:20260901T120000
UID:P70606-20260901T084500@KVHSAMMERLAND
SUMMARY:Integrationskurs Westerstede - Modul 6 (P70606) 
LOCATION:Westerstede, kvhs, Raum B201, Seminarraum, Am Esch 10, 26655 Westerstede
END:VEVENT
BEGIN:VEVENT
DTSTAMP:20260421T153958
DTSTART;TZID=Europe/Berlin:20260902T084500
DTEND;TZID=Europe/Berlin:20260902T120000
UID:P70606-20260902T084500@KVHSAMMERLAND
SUMMARY:Integrationskurs Westerstede - Modul 6 (P70606) 
LOCATION:Westerstede, kvhs, Raum B201, Seminarraum, Am Esch 10, 26655 Westerstede
END:VEVENT
BEGIN:VEVENT
DTSTAMP:20260421T153958
DTSTART;TZID=Europe/Berlin:20260903T084500
DTEND;TZID=Europe/Berlin:20260903T120000
UID:P70606-20260903T084500@KVHSAMMERLAND
SUMMARY:Integrationskurs Westerstede - Modul 6 (P70606) 
LOCATION:Westerstede, kvhs, Raum B201, Seminarraum, Am Esch 10, 26655 Westerstede
END:VEVENT
BEGIN:VEVENT
DTSTAMP:20260421T153958
DTSTART;TZID=Europe/Berlin:20260904T084500
DTEND;TZID=Europe/Berlin:20260904T120000
UID:P70606-20260904T084500@KVHSAMMERLAND
SUMMARY:Integrationskurs Westerstede - Modul 6 (P70606) 
LOCATION:Westerstede, kvhs, Raum B201, Seminarraum, Am Esch 10, 26655 Westerstede
END:VEVENT
BEGIN:VEVENT
DTSTAMP:20260421T153958
DTSTART;TZID=Europe/Berlin:20260907T084500
DTEND;TZID=Europe/Berlin:20260907T120000
UID:P70606-20260907T084500@KVHSAMMERLAND
SUMMARY:Integrationskurs Westerstede - Modul 6 (P70606) 
LOCATION:Westerstede, kvhs, Raum B201, Seminarraum, Am Esch 10, 26655 Westerstede
END:VEVENT
BEGIN:VEVENT
DTSTAMP:20260421T153958
DTSTART;TZID=Europe/Berlin:20260908T084500
DTEND;TZID=Europe/Berlin:20260908T120000
UID:P70606-20260908T084500@KVHSAMMERLAND
SUMMARY:Integrationskurs Westerstede - Modul 6 (P70606) 
LOCATION:Westerstede, kvhs, Raum B201, Seminarraum, Am Esch 10, 26655 Westerstede
END:VEVENT
BEGIN:VEVENT
DTSTAMP:20260421T153958
DTSTART;TZID=Europe/Berlin:20260909T084500
DTEND;TZID=Europe/Berlin:20260909T120000
UID:P70606-20260909T084500@KVHSAMMERLAND
SUMMARY:Integrationskurs Westerstede - Modul 6 (P70606) 
LOCATION:Westerstede, kvhs, Raum B201, Seminarraum, Am Esch 10, 26655 Westerstede
END:VEVENT
BEGIN:VEVENT
DTSTAMP:20260421T153958
DTSTART;TZID=Europe/Berlin:20260910T084500
DTEND;TZID=Europe/Berlin:20260910T120000
UID:P70606-20260910T084500@KVHSAMMERLAND
SUMMARY:Integrationskurs Westerstede - Modul 6 (P70606) 
LOCATION:Westerstede, kvhs, Raum B201, Seminarraum, Am Esch 10, 26655 Westerstede
END:VEVENT
BEGIN:VEVENT
DTSTAMP:20260421T153958
DTSTART;TZID=Europe/Berlin:20260911T084500
DTEND;TZID=Europe/Berlin:20260911T120000
UID:P70606-20260911T084500@KVHSAMMERLAND
SUMMARY:Integrationskurs Westerstede - Modul 6 (P70606) 
LOCATION:Westerstede, kvhs, Raum B201, Seminarraum, Am Esch 10, 26655 Westerstede
END:VEVENT
BEGIN:VEVENT
DTSTAMP:20260421T153958
DTSTART;TZID=Europe/Berlin:20260914T084500
DTEND;TZID=Europe/Berlin:20260914T120000
UID:P70606-20260914T084500@KVHSAMMERLAND
SUMMARY:Integrationskurs Westerstede - Modul 6 (P70606) 
LOCATION:Westerstede, kvhs, Raum B201, Seminarraum, Am Esch 10, 26655 Westerstede
END:VEVENT
BEGIN:VEVENT
DTSTAMP:20260421T153958
DTSTART;TZID=Europe/Berlin:20260915T084500
DTEND;TZID=Europe/Berlin:20260915T120000
UID:P70606-20260915T084500@KVHSAMMERLAND
SUMMARY:Integrationskurs Westerstede - Modul 6 (P70606) 
LOCATION:Westerstede, kvhs, Raum B201, Seminarraum, Am Esch 10, 26655 Westerstede
END:VEVENT
BEGIN:VEVENT
DTSTAMP:20260421T153958
DTSTART;TZID=Europe/Berlin:20260916T084500
DTEND;TZID=Europe/Berlin:20260916T120000
UID:P70606-20260916T084500@KVHSAMMERLAND
SUMMARY:Integrationskurs Westerstede - Modul 6 (P70606) 
LOCATION:Westerstede, kvhs, Raum B201, Seminarraum, Am Esch 10, 26655 Westerstede
END:VEVENT
BEGIN:VEVENT
DTSTAMP:20260421T153958
DTSTART;TZID=Europe/Berlin:20260917T084500
DTEND;TZID=Europe/Berlin:20260917T120000
UID:P70606-20260917T084500@KVHSAMMERLAND
SUMMARY:Integrationskurs Westerstede - Modul 6 (P70606) 
LOCATION:Westerstede, kvhs, Raum B201, Seminarraum, Am Esch 10, 26655 Westerstede
END:VEVENT
BEGIN:VEVENT
DTSTAMP:20260421T153958
DTSTART;TZID=Europe/Berlin:20260918T084500
DTEND;TZID=Europe/Berlin:20260918T120000
UID:P70606-20260918T084500@KVHSAMMERLAND
SUMMARY:Integrationskurs Westerstede - Modul 6 (P70606) 
LOCATION:Westerstede, kvhs, Raum B201, Seminarraum, Am Esch 10, 26655 Westerstede
END:VEVENT
BEGIN:VEVENT
DTSTAMP:20260421T153958
DTSTART;TZID=Europe/Berlin:20260926T083000
DTEND;TZID=Europe/Berlin:20260926T150000
UID:P70606-20260926T083000@KVHSAMMERLAND
DESCRIPTION:DTZ
SUMMARY:Integrationskurs Westerstede - Modul 6 (P70606) 
LOCATION:Westerstede, kvhs, Raum B201, Seminarraum, Am Esch 10, 26655 Westerstede
END:VEVENT
END:VCALENDAR