BEGIN:VCALENDAR
VERSION:2.0
PRODID:https://www.kufer.de/kuferweb / DE
METHOD:PUBLISH
CALSCALE:GREGORIAN
X-WR-TIMEZONE:Europe/Berlin
BEGIN:VTIMEZONE
TZID:Europe/Berlin
X-LIC-LOCATION:Europe/Berlin
BEGIN:DAYLIGHT
TZOFFSETFROM:+0100
TZOFFSETTO:+0200
TZNAME:CEST
DTSTART:19700329T020000
RRULE:FREQ=YEARLY;INTERVAL=1;BYDAY=-1SU;BYMONTH=3
END:DAYLIGHT
BEGIN:STANDARD
TZOFFSETFROM:+0200
TZOFFSETTO:+0100
TZNAME:CET
DTSTART:19701025T030000
RRULE:FREQ=YEARLY;INTERVAL=1;BYDAY=-1SU;BYMONTH=10
END:STANDARD
END:VTIMEZONE
BEGIN:VEVENT
DTSTAMP:20260421T171532
DTSTART;TZID=Europe/Berlin:20260601T084500
DTEND;TZID=Europe/Berlin:20260601T120000
UID:P70605-20260601T084500@KVHSAMMERLAND
SUMMARY:Integrationskurs Westerstede - Modul 5 (P70605) 
LOCATION:Westerstede, kvhs, Raum B201, Seminarraum, Am Esch 10, 26655 Westerstede
END:VEVENT
BEGIN:VEVENT
DTSTAMP:20260421T171532
DTSTART;TZID=Europe/Berlin:20260602T084500
DTEND;TZID=Europe/Berlin:20260602T120000
UID:P70605-20260602T084500@KVHSAMMERLAND
SUMMARY:Integrationskurs Westerstede - Modul 5 (P70605) 
LOCATION:Westerstede, kvhs, Raum B201, Seminarraum, Am Esch 10, 26655 Westerstede
END:VEVENT
BEGIN:VEVENT
DTSTAMP:20260421T171532
DTSTART;TZID=Europe/Berlin:20260603T084500
DTEND;TZID=Europe/Berlin:20260603T120000
UID:P70605-20260603T084500@KVHSAMMERLAND
SUMMARY:Integrationskurs Westerstede - Modul 5 (P70605) 
LOCATION:Westerstede, kvhs, Raum B201, Seminarraum, Am Esch 10, 26655 Westerstede
END:VEVENT
BEGIN:VEVENT
DTSTAMP:20260421T171532
DTSTART;TZID=Europe/Berlin:20260604T084500
DTEND;TZID=Europe/Berlin:20260604T120000
UID:P70605-20260604T084500@KVHSAMMERLAND
SUMMARY:Integrationskurs Westerstede - Modul 5 (P70605) 
LOCATION:Westerstede, kvhs, Raum B201, Seminarraum, Am Esch 10, 26655 Westerstede
END:VEVENT
BEGIN:VEVENT
DTSTAMP:20260421T171532
DTSTART;TZID=Europe/Berlin:20260605T084500
DTEND;TZID=Europe/Berlin:20260605T120000
UID:P70605-20260605T084500@KVHSAMMERLAND
SUMMARY:Integrationskurs Westerstede - Modul 5 (P70605) 
LOCATION:Westerstede, kvhs, Raum B201, Seminarraum, Am Esch 10, 26655 Westerstede
END:VEVENT
BEGIN:VEVENT
DTSTAMP:20260421T171532
DTSTART;TZID=Europe/Berlin:20260608T084500
DTEND;TZID=Europe/Berlin:20260608T120000
UID:P70605-20260608T084500@KVHSAMMERLAND
SUMMARY:Integrationskurs Westerstede - Modul 5 (P70605) 
LOCATION:Westerstede, kvhs, Raum B201, Seminarraum, Am Esch 10, 26655 Westerstede
END:VEVENT
BEGIN:VEVENT
DTSTAMP:20260421T171532
DTSTART;TZID=Europe/Berlin:20260609T084500
DTEND;TZID=Europe/Berlin:20260609T120000
UID:P70605-20260609T084500@KVHSAMMERLAND
SUMMARY:Integrationskurs Westerstede - Modul 5 (P70605) 
LOCATION:Westerstede, kvhs, Raum B201, Seminarraum, Am Esch 10, 26655 Westerstede
END:VEVENT
BEGIN:VEVENT
DTSTAMP:20260421T171532
DTSTART;TZID=Europe/Berlin:20260610T084500
DTEND;TZID=Europe/Berlin:20260610T120000
UID:P70605-20260610T084500@KVHSAMMERLAND
SUMMARY:Integrationskurs Westerstede - Modul 5 (P70605) 
LOCATION:Westerstede, kvhs, Raum B201, Seminarraum, Am Esch 10, 26655 Westerstede
END:VEVENT
BEGIN:VEVENT
DTSTAMP:20260421T171532
DTSTART;TZID=Europe/Berlin:20260611T084500
DTEND;TZID=Europe/Berlin:20260611T120000
UID:P70605-20260611T084500@KVHSAMMERLAND
SUMMARY:Integrationskurs Westerstede - Modul 5 (P70605) 
LOCATION:Westerstede, kvhs, Raum B201, Seminarraum, Am Esch 10, 26655 Westerstede
END:VEVENT
BEGIN:VEVENT
DTSTAMP:20260421T171532
DTSTART;TZID=Europe/Berlin:20260612T084500
DTEND;TZID=Europe/Berlin:20260612T120000
UID:P70605-20260612T084500@KVHSAMMERLAND
SUMMARY:Integrationskurs Westerstede - Modul 5 (P70605) 
LOCATION:Westerstede, kvhs, Raum B201, Seminarraum, Am Esch 10, 26655 Westerstede
END:VEVENT
BEGIN:VEVENT
DTSTAMP:20260421T171532
DTSTART;TZID=Europe/Berlin:20260615T084500
DTEND;TZID=Europe/Berlin:20260615T120000
UID:P70605-20260615T084500@KVHSAMMERLAND
SUMMARY:Integrationskurs Westerstede - Modul 5 (P70605) 
LOCATION:Westerstede, kvhs, Raum B201, Seminarraum, Am Esch 10, 26655 Westerstede
END:VEVENT
BEGIN:VEVENT
DTSTAMP:20260421T171532
DTSTART;TZID=Europe/Berlin:20260616T084500
DTEND;TZID=Europe/Berlin:20260616T120000
UID:P70605-20260616T084500@KVHSAMMERLAND
SUMMARY:Integrationskurs Westerstede - Modul 5 (P70605) 
LOCATION:Westerstede, kvhs, Raum B201, Seminarraum, Am Esch 10, 26655 Westerstede
END:VEVENT
BEGIN:VEVENT
DTSTAMP:20260421T171532
DTSTART;TZID=Europe/Berlin:20260617T084500
DTEND;TZID=Europe/Berlin:20260617T120000
UID:P70605-20260617T084500@KVHSAMMERLAND
SUMMARY:Integrationskurs Westerstede - Modul 5 (P70605) 
LOCATION:Westerstede, kvhs, Raum B201, Seminarraum, Am Esch 10, 26655 Westerstede
END:VEVENT
BEGIN:VEVENT
DTSTAMP:20260421T171532
DTSTART;TZID=Europe/Berlin:20260618T084500
DTEND;TZID=Europe/Berlin:20260618T120000
UID:P70605-20260618T084500@KVHSAMMERLAND
SUMMARY:Integrationskurs Westerstede - Modul 5 (P70605) 
LOCATION:Westerstede, kvhs, Raum B201, Seminarraum, Am Esch 10, 26655 Westerstede
END:VEVENT
BEGIN:VEVENT
DTSTAMP:20260421T171532
DTSTART;TZID=Europe/Berlin:20260619T084500
DTEND;TZID=Europe/Berlin:20260619T120000
UID:P70605-20260619T084500@KVHSAMMERLAND
SUMMARY:Integrationskurs Westerstede - Modul 5 (P70605) 
LOCATION:Westerstede, kvhs, Raum B201, Seminarraum, Am Esch 10, 26655 Westerstede
END:VEVENT
BEGIN:VEVENT
DTSTAMP:20260421T171532
DTSTART;TZID=Europe/Berlin:20260622T084500
DTEND;TZID=Europe/Berlin:20260622T120000
UID:P70605-20260622T084500@KVHSAMMERLAND
SUMMARY:Integrationskurs Westerstede - Modul 5 (P70605) 
LOCATION:Westerstede, kvhs, Raum B201, Seminarraum, Am Esch 10, 26655 Westerstede
END:VEVENT
BEGIN:VEVENT
DTSTAMP:20260421T171532
DTSTART;TZID=Europe/Berlin:20260623T084500
DTEND;TZID=Europe/Berlin:20260623T120000
UID:P70605-20260623T084500@KVHSAMMERLAND
SUMMARY:Integrationskurs Westerstede - Modul 5 (P70605) 
LOCATION:Westerstede, kvhs, Raum B201, Seminarraum, Am Esch 10, 26655 Westerstede
END:VEVENT
BEGIN:VEVENT
DTSTAMP:20260421T171532
DTSTART;TZID=Europe/Berlin:20260624T084500
DTEND;TZID=Europe/Berlin:20260624T120000
UID:P70605-20260624T084500@KVHSAMMERLAND
SUMMARY:Integrationskurs Westerstede - Modul 5 (P70605) 
LOCATION:Westerstede, kvhs, Raum B201, Seminarraum, Am Esch 10, 26655 Westerstede
END:VEVENT
BEGIN:VEVENT
DTSTAMP:20260421T171532
DTSTART;TZID=Europe/Berlin:20260625T084500
DTEND;TZID=Europe/Berlin:20260625T120000
UID:P70605-20260625T084500@KVHSAMMERLAND
SUMMARY:Integrationskurs Westerstede - Modul 5 (P70605) 
LOCATION:Westerstede, kvhs, Raum B201, Seminarraum, Am Esch 10, 26655 Westerstede
END:VEVENT
BEGIN:VEVENT
DTSTAMP:20260421T171532
DTSTART;TZID=Europe/Berlin:20260626T084500
DTEND;TZID=Europe/Berlin:20260626T120000
UID:P70605-20260626T084500@KVHSAMMERLAND
SUMMARY:Integrationskurs Westerstede - Modul 5 (P70605) 
LOCATION:Westerstede, kvhs, Raum B201, Seminarraum, Am Esch 10, 26655 Westerstede
END:VEVENT
BEGIN:VEVENT
DTSTAMP:20260421T171532
DTSTART;TZID=Europe/Berlin:20260629T084500
DTEND;TZID=Europe/Berlin:20260629T120000
UID:P70605-20260629T084500@KVHSAMMERLAND
SUMMARY:Integrationskurs Westerstede - Modul 5 (P70605) 
LOCATION:Westerstede, kvhs, Raum B201, Seminarraum, Am Esch 10, 26655 Westerstede
END:VEVENT
BEGIN:VEVENT
DTSTAMP:20260421T171532
DTSTART;TZID=Europe/Berlin:20260630T084500
DTEND;TZID=Europe/Berlin:20260630T120000
UID:P70605-20260630T084500@KVHSAMMERLAND
SUMMARY:Integrationskurs Westerstede - Modul 5 (P70605) 
LOCATION:Westerstede, kvhs, Raum B201, Seminarraum, Am Esch 10, 26655 Westerstede
END:VEVENT
BEGIN:VEVENT
DTSTAMP:20260421T171532
DTSTART;TZID=Europe/Berlin:20260701T084500
DTEND;TZID=Europe/Berlin:20260701T120000
UID:P70605-20260701T084500@KVHSAMMERLAND
SUMMARY:Integrationskurs Westerstede - Modul 5 (P70605) 
LOCATION:Westerstede, kvhs, Raum B201, Seminarraum, Am Esch 10, 26655 Westerstede
END:VEVENT
BEGIN:VEVENT
DTSTAMP:20260421T171532
DTSTART;TZID=Europe/Berlin:20260813T084500
DTEND;TZID=Europe/Berlin:20260813T120000
UID:P70605-20260813T084500@KVHSAMMERLAND
SUMMARY:Integrationskurs Westerstede - Modul 5 (P70605) 
LOCATION:Westerstede, kvhs, Raum B201, Seminarraum, Am Esch 10, 26655 Westerstede
END:VEVENT
BEGIN:VEVENT
DTSTAMP:20260421T171532
DTSTART;TZID=Europe/Berlin:20260814T084500
DTEND;TZID=Europe/Berlin:20260814T120000
UID:P70605-20260814T084500@KVHSAMMERLAND
SUMMARY:Integrationskurs Westerstede - Modul 5 (P70605) 
LOCATION:Westerstede, kvhs, Raum B201, Seminarraum, Am Esch 10, 26655 Westerstede
END:VEVENT
END:VCALENDAR