BEGIN:VCALENDAR
VERSION:2.0
PRODID:https://www.kufer.de/kuferweb / DE
METHOD:PUBLISH
CALSCALE:GREGORIAN
X-WR-TIMEZONE:Europe/Berlin
BEGIN:VTIMEZONE
TZID:Europe/Berlin
X-LIC-LOCATION:Europe/Berlin
BEGIN:DAYLIGHT
TZOFFSETFROM:+0100
TZOFFSETTO:+0200
TZNAME:CEST
DTSTART:19700329T020000
RRULE:FREQ=YEARLY;INTERVAL=1;BYDAY=-1SU;BYMONTH=3
END:DAYLIGHT
BEGIN:STANDARD
TZOFFSETFROM:+0200
TZOFFSETTO:+0100
TZNAME:CET
DTSTART:19701025T030000
RRULE:FREQ=YEARLY;INTERVAL=1;BYDAY=-1SU;BYMONTH=10
END:STANDARD
END:VTIMEZONE
BEGIN:VEVENT
DTSTAMP:20260421T191221
DTSTART;TZID=Europe/Berlin:20260508T173000
DTEND;TZID=Europe/Berlin:20260508T180000
UID:P5492-20260508T173000@KVHSAMMERLAND
SUMMARY:Frische Brise mit Hatha-Yoga Yoga auf Spiekeroog (P5492) 
LOCATION:Spiekeroog, Haus am Meer, Westend 12, Westend 12, 26474 Spiekeroog
END:VEVENT
BEGIN:VEVENT
DTSTAMP:20260421T191221
DTSTART;TZID=Europe/Berlin:20260508T193000
DTEND;TZID=Europe/Berlin:20260508T210000
UID:P5492-20260508T193000@KVHSAMMERLAND
SUMMARY:Frische Brise mit Hatha-Yoga Yoga auf Spiekeroog (P5492) 
LOCATION:Spiekeroog, Haus am Meer, Westend 12, Westend 12, 26474 Spiekeroog
END:VEVENT
BEGIN:VEVENT
DTSTAMP:20260421T191221
DTSTART;TZID=Europe/Berlin:20260509T073000
DTEND;TZID=Europe/Berlin:20260509T083000
UID:P5492-20260509T073000@KVHSAMMERLAND
SUMMARY:Frische Brise mit Hatha-Yoga Yoga auf Spiekeroog (P5492) 
LOCATION:Spiekeroog, Haus am Meer, Westend 12, Westend 12, 26474 Spiekeroog
END:VEVENT
BEGIN:VEVENT
DTSTAMP:20260421T191221
DTSTART;TZID=Europe/Berlin:20260509T170000
DTEND;TZID=Europe/Berlin:20260509T180000
UID:P5492-20260509T170000@KVHSAMMERLAND
SUMMARY:Frische Brise mit Hatha-Yoga Yoga auf Spiekeroog (P5492) 
LOCATION:Spiekeroog, Haus am Meer, Westend 12, Westend 12, 26474 Spiekeroog
END:VEVENT
BEGIN:VEVENT
DTSTAMP:20260421T191221
DTSTART;TZID=Europe/Berlin:20260509T194500
DTEND;TZID=Europe/Berlin:20260509T210000
UID:P5492-20260509T194500@KVHSAMMERLAND
SUMMARY:Frische Brise mit Hatha-Yoga Yoga auf Spiekeroog (P5492) 
LOCATION:Spiekeroog, Haus am Meer, Westend 12, Westend 12, 26474 Spiekeroog
END:VEVENT
BEGIN:VEVENT
DTSTAMP:20260421T191221
DTSTART;TZID=Europe/Berlin:20260510T073000
DTEND;TZID=Europe/Berlin:20260510T083000
UID:P5492-20260510T073000@KVHSAMMERLAND
SUMMARY:Frische Brise mit Hatha-Yoga Yoga auf Spiekeroog (P5492) 
LOCATION:Spiekeroog, Haus am Meer, Westend 12, Westend 12, 26474 Spiekeroog
END:VEVENT
BEGIN:VEVENT
DTSTAMP:20260421T191221
DTSTART;TZID=Europe/Berlin:20260510T100000
DTEND;TZID=Europe/Berlin:20260510T111500
UID:P5492-20260510T100000@KVHSAMMERLAND
SUMMARY:Frische Brise mit Hatha-Yoga Yoga auf Spiekeroog (P5492) 
LOCATION:Spiekeroog, Haus am Meer, Westend 12, Westend 12, 26474 Spiekeroog
END:VEVENT
END:VCALENDAR