BEGIN:VCALENDAR
VERSION:2.0
PRODID:https://www.kufer.de/kuferweb / DE
METHOD:PUBLISH
CALSCALE:GREGORIAN
X-WR-TIMEZONE:Europe/Berlin
BEGIN:VTIMEZONE
TZID:Europe/Berlin
X-LIC-LOCATION:Europe/Berlin
BEGIN:DAYLIGHT
TZOFFSETFROM:+0100
TZOFFSETTO:+0200
TZNAME:CEST
DTSTART:19700329T020000
RRULE:FREQ=YEARLY;INTERVAL=1;BYDAY=-1SU;BYMONTH=3
END:DAYLIGHT
BEGIN:STANDARD
TZOFFSETFROM:+0200
TZOFFSETTO:+0100
TZNAME:CET
DTSTART:19701025T030000
RRULE:FREQ=YEARLY;INTERVAL=1;BYDAY=-1SU;BYMONTH=10
END:STANDARD
END:VTIMEZONE
BEGIN:VEVENT
DTSTAMP:20260421T141747
DTSTART;TZID=Europe/Berlin:20260320T083000
DTEND;TZID=Europe/Berlin:20260320T114500
UID:O70647-20260320T083000@KVHSAMMERLAND
SUMMARY:Integrationskurs Westerstede - Orientierungskurs (O70647) 
LOCATION:Westerstede, CAMPUS der Möglichkeiten, Raum C202, Langebrügger Straße 5, 26655 Westerstede
END:VEVENT
BEGIN:VEVENT
DTSTAMP:20260421T141747
DTSTART;TZID=Europe/Berlin:20260408T083000
DTEND;TZID=Europe/Berlin:20260408T114500
UID:O70647-20260408T083000@KVHSAMMERLAND
SUMMARY:Integrationskurs Westerstede - Orientierungskurs (O70647) 
LOCATION:Westerstede, CAMPUS der Möglichkeiten, Raum C202, Langebrügger Straße 5, 26655 Westerstede
END:VEVENT
BEGIN:VEVENT
DTSTAMP:20260421T141747
DTSTART;TZID=Europe/Berlin:20260409T083000
DTEND;TZID=Europe/Berlin:20260409T114500
UID:O70647-20260409T083000@KVHSAMMERLAND
SUMMARY:Integrationskurs Westerstede - Orientierungskurs (O70647) 
LOCATION:Westerstede, CAMPUS der Möglichkeiten, Raum C202, Langebrügger Straße 5, 26655 Westerstede
END:VEVENT
BEGIN:VEVENT
DTSTAMP:20260421T141747
DTSTART;TZID=Europe/Berlin:20260410T083000
DTEND;TZID=Europe/Berlin:20260410T114500
UID:O70647-20260410T083000@KVHSAMMERLAND
SUMMARY:Integrationskurs Westerstede - Orientierungskurs (O70647) 
LOCATION:Westerstede, CAMPUS der Möglichkeiten, Raum C202, Langebrügger Straße 5, 26655 Westerstede
END:VEVENT
BEGIN:VEVENT
DTSTAMP:20260421T141747
DTSTART;TZID=Europe/Berlin:20260413T083000
DTEND;TZID=Europe/Berlin:20260413T114500
UID:O70647-20260413T083000@KVHSAMMERLAND
SUMMARY:Integrationskurs Westerstede - Orientierungskurs (O70647) 
LOCATION:Westerstede, CAMPUS der Möglichkeiten, Raum C202, Langebrügger Straße 5, 26655 Westerstede
END:VEVENT
BEGIN:VEVENT
DTSTAMP:20260421T141747
DTSTART;TZID=Europe/Berlin:20260414T083000
DTEND;TZID=Europe/Berlin:20260414T114500
UID:O70647-20260414T083000@KVHSAMMERLAND
SUMMARY:Integrationskurs Westerstede - Orientierungskurs (O70647) 
LOCATION:Westerstede, CAMPUS der Möglichkeiten, Raum C202, Langebrügger Straße 5, 26655 Westerstede
END:VEVENT
BEGIN:VEVENT
DTSTAMP:20260421T141747
DTSTART;TZID=Europe/Berlin:20260415T083000
DTEND;TZID=Europe/Berlin:20260415T114500
UID:O70647-20260415T083000@KVHSAMMERLAND
SUMMARY:Integrationskurs Westerstede - Orientierungskurs (O70647) 
LOCATION:Westerstede, CAMPUS der Möglichkeiten, Raum C202, Langebrügger Straße 5, 26655 Westerstede
END:VEVENT
BEGIN:VEVENT
DTSTAMP:20260421T141747
DTSTART;TZID=Europe/Berlin:20260416T083000
DTEND;TZID=Europe/Berlin:20260416T114500
UID:O70647-20260416T083000@KVHSAMMERLAND
SUMMARY:Integrationskurs Westerstede - Orientierungskurs (O70647) 
LOCATION:Westerstede, CAMPUS der Möglichkeiten, Raum C202, Langebrügger Straße 5, 26655 Westerstede
END:VEVENT
BEGIN:VEVENT
DTSTAMP:20260421T141747
DTSTART;TZID=Europe/Berlin:20260417T083000
DTEND;TZID=Europe/Berlin:20260417T114500
UID:O70647-20260417T083000@KVHSAMMERLAND
SUMMARY:Integrationskurs Westerstede - Orientierungskurs (O70647) 
LOCATION:Westerstede, CAMPUS der Möglichkeiten, Raum C202, Langebrügger Straße 5, 26655 Westerstede
END:VEVENT
BEGIN:VEVENT
DTSTAMP:20260421T141747
DTSTART;TZID=Europe/Berlin:20260420T083000
DTEND;TZID=Europe/Berlin:20260420T114500
UID:O70647-20260420T083000@KVHSAMMERLAND
SUMMARY:Integrationskurs Westerstede - Orientierungskurs (O70647) 
LOCATION:Westerstede, CAMPUS der Möglichkeiten, Raum C202, Langebrügger Straße 5, 26655 Westerstede
END:VEVENT
BEGIN:VEVENT
DTSTAMP:20260421T141747
DTSTART;TZID=Europe/Berlin:20260421T083000
DTEND;TZID=Europe/Berlin:20260421T114500
UID:O70647-20260421T083000@KVHSAMMERLAND
SUMMARY:Integrationskurs Westerstede - Orientierungskurs (O70647) 
LOCATION:Westerstede, CAMPUS der Möglichkeiten, Raum C202, Langebrügger Straße 5, 26655 Westerstede
END:VEVENT
BEGIN:VEVENT
DTSTAMP:20260421T141747
DTSTART;TZID=Europe/Berlin:20260422T083000
DTEND;TZID=Europe/Berlin:20260422T114500
UID:O70647-20260422T083000@KVHSAMMERLAND
SUMMARY:Integrationskurs Westerstede - Orientierungskurs (O70647) 
LOCATION:Westerstede, CAMPUS der Möglichkeiten, Raum C202, Langebrügger Straße 5, 26655 Westerstede
END:VEVENT
BEGIN:VEVENT
DTSTAMP:20260421T141747
DTSTART;TZID=Europe/Berlin:20260423T083000
DTEND;TZID=Europe/Berlin:20260423T114500
UID:O70647-20260423T083000@KVHSAMMERLAND
DESCRIPTION:Besuch MBE 11:00 Uhr
SUMMARY:Integrationskurs Westerstede - Orientierungskurs (O70647) 
LOCATION:Westerstede, CAMPUS der Möglichkeiten, Raum C202, Langebrügger Straße 5, 26655 Westerstede
END:VEVENT
BEGIN:VEVENT
DTSTAMP:20260421T141747
DTSTART;TZID=Europe/Berlin:20260424T083000
DTEND;TZID=Europe/Berlin:20260424T114500
UID:O70647-20260424T083000@KVHSAMMERLAND
SUMMARY:Integrationskurs Westerstede - Orientierungskurs (O70647) 
LOCATION:Westerstede, CAMPUS der Möglichkeiten, Raum C202, Langebrügger Straße 5, 26655 Westerstede
END:VEVENT
BEGIN:VEVENT
DTSTAMP:20260421T141747
DTSTART;TZID=Europe/Berlin:20260427T083000
DTEND;TZID=Europe/Berlin:20260427T114500
UID:O70647-20260427T083000@KVHSAMMERLAND
SUMMARY:Integrationskurs Westerstede - Orientierungskurs (O70647) 
LOCATION:Westerstede, CAMPUS der Möglichkeiten, Raum C202, Langebrügger Straße 5, 26655 Westerstede
END:VEVENT
BEGIN:VEVENT
DTSTAMP:20260421T141747
DTSTART;TZID=Europe/Berlin:20260428T083000
DTEND;TZID=Europe/Berlin:20260428T114500
UID:O70647-20260428T083000@KVHSAMMERLAND
SUMMARY:Integrationskurs Westerstede - Orientierungskurs (O70647) 
LOCATION:Westerstede, CAMPUS der Möglichkeiten, Raum C202, Langebrügger Straße 5, 26655 Westerstede
END:VEVENT
BEGIN:VEVENT
DTSTAMP:20260421T141747
DTSTART;TZID=Europe/Berlin:20260429T083000
DTEND;TZID=Europe/Berlin:20260429T114500
UID:O70647-20260429T083000@KVHSAMMERLAND
SUMMARY:Integrationskurs Westerstede - Orientierungskurs (O70647) 
LOCATION:Westerstede, CAMPUS der Möglichkeiten, Raum C202, Langebrügger Straße 5, 26655 Westerstede
END:VEVENT
BEGIN:VEVENT
DTSTAMP:20260421T141747
DTSTART;TZID=Europe/Berlin:20260430T083000
DTEND;TZID=Europe/Berlin:20260430T114500
UID:O70647-20260430T083000@KVHSAMMERLAND
SUMMARY:Integrationskurs Westerstede - Orientierungskurs (O70647) 
LOCATION:Westerstede, CAMPUS der Möglichkeiten, Raum C202, Langebrügger Straße 5, 26655 Westerstede
END:VEVENT
BEGIN:VEVENT
DTSTAMP:20260421T141747
DTSTART;TZID=Europe/Berlin:20260504T083000
DTEND;TZID=Europe/Berlin:20260504T114500
UID:O70647-20260504T083000@KVHSAMMERLAND
SUMMARY:Integrationskurs Westerstede - Orientierungskurs (O70647) 
LOCATION:Westerstede, CAMPUS der Möglichkeiten, Raum C202, Langebrügger Straße 5, 26655 Westerstede
END:VEVENT
BEGIN:VEVENT
DTSTAMP:20260421T141747
DTSTART;TZID=Europe/Berlin:20260505T083000
DTEND;TZID=Europe/Berlin:20260505T114500
UID:O70647-20260505T083000@KVHSAMMERLAND
SUMMARY:Integrationskurs Westerstede - Orientierungskurs (O70647) 
LOCATION:Westerstede, CAMPUS der Möglichkeiten, Raum C202, Langebrügger Straße 5, 26655 Westerstede
END:VEVENT
BEGIN:VEVENT
DTSTAMP:20260421T141747
DTSTART;TZID=Europe/Berlin:20260506T083000
DTEND;TZID=Europe/Berlin:20260506T114500
UID:O70647-20260506T083000@KVHSAMMERLAND
SUMMARY:Integrationskurs Westerstede - Orientierungskurs (O70647) 
LOCATION:Westerstede, CAMPUS der Möglichkeiten, Raum C202, Langebrügger Straße 5, 26655 Westerstede
END:VEVENT
BEGIN:VEVENT
DTSTAMP:20260421T141747
DTSTART;TZID=Europe/Berlin:20260507T083000
DTEND;TZID=Europe/Berlin:20260507T114500
UID:O70647-20260507T083000@KVHSAMMERLAND
SUMMARY:Integrationskurs Westerstede - Orientierungskurs (O70647) 
LOCATION:Westerstede, CAMPUS der Möglichkeiten, Raum C202, Langebrügger Straße 5, 26655 Westerstede
END:VEVENT
BEGIN:VEVENT
DTSTAMP:20260421T141747
DTSTART;TZID=Europe/Berlin:20260508T083000
DTEND;TZID=Europe/Berlin:20260508T114500
UID:O70647-20260508T083000@KVHSAMMERLAND
SUMMARY:Integrationskurs Westerstede - Orientierungskurs (O70647) 
LOCATION:Westerstede, CAMPUS der Möglichkeiten, Raum C202, Langebrügger Straße 5, 26655 Westerstede
END:VEVENT
BEGIN:VEVENT
DTSTAMP:20260421T141747
DTSTART;TZID=Europe/Berlin:20260511T083000
DTEND;TZID=Europe/Berlin:20260511T114500
UID:O70647-20260511T083000@KVHSAMMERLAND
SUMMARY:Integrationskurs Westerstede - Orientierungskurs (O70647) 
LOCATION:Westerstede, CAMPUS der Möglichkeiten, Raum C202, Langebrügger Straße 5, 26655 Westerstede
END:VEVENT
BEGIN:VEVENT
DTSTAMP:20260421T141747
DTSTART;TZID=Europe/Berlin:20260512T083000
DTEND;TZID=Europe/Berlin:20260512T114500
UID:O70647-20260512T083000@KVHSAMMERLAND
SUMMARY:Integrationskurs Westerstede - Orientierungskurs (O70647) 
LOCATION:Westerstede, CAMPUS der Möglichkeiten, Raum C202, Langebrügger Straße 5, 26655 Westerstede
END:VEVENT
BEGIN:VEVENT
DTSTAMP:20260421T141747
DTSTART;TZID=Europe/Berlin:20260520T083000
DTEND;TZID=Europe/Berlin:20260520T103000
UID:O70647-20260520T083000@KVHSAMMERLAND
DESCRIPTION:LID 09:00 Uhr
SUMMARY:Integrationskurs Westerstede - Orientierungskurs (O70647) 
LOCATION:Westerstede, kvhs, Raum B202, Seminarraum, Am Esch 10, 26655 Westerstede
END:VEVENT
END:VCALENDAR